{"text_format":"1","workbook":"xlsx","n_sheets":6,"sheets":["INTRODUCTIE",">>Producten-prijslijst","Ontbijtbuffet (leeg)","Basic Onbijtbuffet","Comfort Onbijtbuffet","Premium Ontbijtbuffet"],"not_rendered":{"charts":0,"images":1,"macros":0,"external_links":0,"defined_names":1,"comments":0,"pivot_tables":0},"unopened":[],"bounds":{"document_bytes":16777216,"sheet_cells":100000,"rows_first":2000,"rows_last":500,"rows_between":2000,"halvings":0,"cell_chars":16384,"cell_head_chars":4096},"cells_cut":0,"cells_raw":0,"read":"whole","date_system":"1900"}

{"sheet":"INTRODUCTIE","index":0,"n_rows":0,"n_cols":0,"rows_kept":0,"cut":false,"hidden":false,"merged":[]}

{"sheet":">>Producten-prijslijst","index":1,"n_rows":151,"n_cols":4,"rows_kept":151,"cut":false,"hidden":false,"merged":[[87,1,87,3],[100,1,100,3],[110,1,110,3],[125,1,125,3],[3,1,3,3],[19,1,19,3],[39,1,39,3],[52,1,52,3],[64,1,64,3],[75,1,75,3]]}
[]
[null,"Ingrediënt","Eenheid","Aankoopprijs"]
[null,"kies uw product","kg",0]
[null,"Drank"]
[null,"Koffie","kg",15.3]
[null,"Thee","st",0.15]
[null,"Plat water","lt",0.98]
[null,"Bruisend water","lt",1.1000000000000001]
[null,"Appelsiensap","lt",3.2]
[null,"Smoothie kiwi (250ml)","st",1.33]
[null,"Smoothie rood fruit (250ml)","st",1.33]
[null,"Appelsap","lt",1.06]
[null,"Tomatensap","lt",0.99]
[null,"Chocolademelk","lt",1.63]
[null,"Zelf invullen"]
[null,"Zelf invullen"]
[null,"Zelf invullen"]
[null,"Zelf invullen"]
[null,"Zelf invullen"]
[null,"Melkproducten"]
[null,"Fruit yoghurt (150gr)","st",0.43]
[null,"Yoghurt met cereals (100gr)","st",0.55000000000000004]
[null,"Actimel (80gr)","st",0.75]
[null,"Melk","lt",0.72]
[null,"Kaas plakken (20gr)","st",0.16]
[null,"Soja melk","lt",3.2]
[null,"Brie","kg",18.52]
[null,"Geitenkaas","kg",12.4]
[null,"Chimay Blauw","kg",53.55]
[null,"Cheddar","kg",7.65]
[null,"Maredsous","kg",5.91]
[null,"Kruidenkaas","kg",9.68]
[null,"Cottage cheese","lt",6.33]
[null,"Magere melk","lt",0.64]
[null,"Zelf invullen"]
[null,"Zelf invullen"]
[null,"Zelf invullen"]
[null,"Zelf invullen"]
[null,"Zelf invullen"]
[null,"Fruit"]
[null,"Kiwi","st",0.55000000000000004]
[null,"Appel","kg",1.9]
[null,"Peer","kg",2.1]
[null,"Appelsien","kg",2.2799999999999998]
[null,"Druiven","kg",4.42]
[null,"Fruitsalade","kg",5.0999999999999996]
[null,"Banaan","kg",2.87]
[null,"Zelf invullen"]
[null,"Zelf invullen"]
[null,"Zelf invullen"]
[null,"Zelf invullen"]
[null,"Zelf invullen"]
[null,"Warm buffet"]
[null,"Ei","st",0.09]
[null,"Spek","kg",9.32]
[null,"Mini worstjes","kg",8.4]
[null,"Tomaat","kg",2.14]
[null,"Gebakken champignons","kg",7.8]
[null,"Aardappelschijfjes","kg",4]
[null,"Zelf invullen"]
[null,"Zelf invullen"]
[null,"Zelf invullen"]
[null,"Zelf invullen"]
[null,"Zelf invullen"]
[null,"Vis"]
[null,"Gerookte zalm","kg",22.83]
[null,"Gerookte heilbot","kg",31.78]
[null,"Maatjes","kg",21.87]
[null,"Garnalen","kg",40]
[null,"Wakame salade","kg",18]
[null,"Zelf invullen"]
[null,"Zelf invullen"]
[null,"Zelf invullen"]
[null,"Zelf invullen"]
[null,"Zelf invullen"]
[null,"Charcuterie"]
[null,"Pancetta","kg",10.27]
[null,"Gerookte kalkoen","kg",9.27]
[null,"Gekookte ham","kg",11.5]
[null,"Ganda ham","kg",36]
[null,"Salami","kg",11.51]
[null,"Zwarte pens","kg",10.119999999999999]
[null,"Zelf invullen"]
[null,"Zelf invullen"]
[null,"Zelf invullen"]
[null,"Zelf invullen"]
[null,"Zelf invullen"]
[null,"Zoet"]
[null,"Nutella (15gr)","st",0.16]
[null,"Confituur (15gr)","st",0.17]
[null,"Smeerkaas (17gr)","st",0.21]
[null,"Pannenkoeken","st",{"$f":"33.9/15","v":2.2599999999999998}]
[null,"Chocolade muizen (20gr)","st",0.31]
[null,"Zoetjes","st",0.02]
[null,"Suiker koffie (5gr)","st",0.01]
[null,"Zelf invullen"]
[null,"Zelf invullen"]
[null,"Zelf invullen"]
[null,"Zelf invullen"]
[null,"Zelf invullen"]
[null,"Salade en groenten"]
[null,"Salade mix","gr",0.01]
[null,"Sjalot","kg",2.0699999999999998]
[null,"Kerstomaat","kg",1.03]
[null,"Mais","gr",0.01]
[null,"Zelf invullen"]
[null,"Zelf invullen"]
[null,"Zelf invullen"]
[null,"Zelf invullen"]
[null,"Zelf invullen"]
[null,"Garnituren"]
[null,"Croutons","kg",5.18]
[null,"Notenmix","kg",23]
[null,"Augurken","kg",3.36]
[null,"Mini uitjes op azijn","kg",1.81]
[null,"Kappertjes","lt",14.67]
[null,"Gehakte peterselie","kg",18.5]
[null,"Citroen in kwartjes","st",0.45]
[null,"Boter (8gr)","st",0.08]
[null,"Margarine (15gr)","st",0.05]
[null,"Zelf invullen"]
[null,"Zelf invullen"]
[null,"Zelf invullen"]
[null,"Zelf invullen"]
[null,"Zelf invullen"]
[null,"Brood"]
[17920000,"Chocolade broodje premium","st",{"$f":"35.35/48","v":0.73645833333333333}]
[21860000,"Chocoladebroodje","st",{"$f":"27.66/48","v":0.57625000000000004}]
[223162,"Golden croissant","st",{"$f":"25.48/52","v":0.49}]
[223805,"Croissant recht","st",{"$f":"25.48/52","v":0.49}]
[210300004,"Premium suisse rond","st",{"$f":"32.26/36","v":0.89611111111111108}]
[221978,"Cinnamon scandi swirl","st",{"$f":"34.65/35","v":0.99}]
[22320000,"Mini assortiment viennoiserie","st",{"$f":"50.83/450","v":0.11295555555555555}]
[223173,"Mini danish selection","st",{"$f":"56.08/112","v":0.50071428571428567}]
[17300003,"Mini croissant gevuld","st",{"$f":"70.62/108","v":0.65388888888888896}]
[222864,"Assortiment resto","st",{"$f":"25.17/100","v":0.25170000000000003}]
[223831,"Assortiment Prestige","st",{"$f":"33.83/100","v":0.33829999999999999}]
[220092,"Midi rozenbroodje volkoren","st",{"$f":"26.75/80","v":0.33437499999999998}]
[27690000,"Molenaarsbrood donker","st",{"$f":"33.83/8","v":4.2287499999999998}]
[23600001,"Molenaarsbrood meergranen","st",{"$f":"33.83/8","v":4.2287499999999998}]
[23610001,"Molenaarsbrood wit","st",4.2287499999999998]
[26100000,"Toast brood wit","st",{"$f":"12.95/4","v":3.2374999999999998}]
[225608,"Toastbrood premium country","st",{"$f":"45.1/10","v":4.51}]
[223284,"PLUS Stokbrood wit bebloemd","st",{"$f":"21.96/20","v":1.0980000000000001}]
[224468,"PLUS fitness stokbrood","st",{"$f":"28.29/23","v":1.23}]
[24680000,"Glutenvrij broodje wit","st",{"$f":"27.03/24","v":1.12625}]
[null,"Zelf invullen"]
[null,"Zelf invullen"]
[null,"Zelf invullen"]
[null,"Zelf invullen"]
[null,"Zelf invullen"]

{"sheet":"Ontbijtbuffet (leeg)","index":2,"n_rows":163,"n_cols":6,"rows_kept":163,"cut":false,"hidden":false,"merged":[[21,5,40,5],[40,0,40,3],[0,0,0,5],[3,0,3,5],[4,5,19,5],[19,0,19,3],[20,0,20,5],[1,0,1,5],[41,0,41,5],[42,5,54,5],[54,0,54,3],[55,0,55,5],[56,5,67,5],[67,0,67,3],[68,0,68,5],[69,5,79,5],[79,0,79,3],[80,0,80,5],[81,5,92,5],[92,0,92,3],[93,0,93,5],[94,5,105,5],[105,0,105,3],[106,0,106,5],[107,5,116,5],[116,0,116,3],[160,0,160,3],[161,0,161,1],[162,0,162,1],[117,0,117,5],[118,5,132,5],[132,0,132,3],[133,0,133,5],[134,5,159,5],[159,0,159,3]]}
["ONTBIJTBUFFET"]
["Vul hier jouw eigen ontbijt in: geef de gewenste hoeveelheden in en voeg onderaan het aantal gasten toe. De foodcost wordt automatisch berekend."]
["INGREDIËNTEN","HOEVEELHEID","EENHEID","AANKOOPPRIJS","FOODCOST","FOODCOST % PER CATEGORIE"]
["Drank"]
[{"$f":"'>>Producten-prijslijst'!B5","v":"Koffie"},null,{"$f":"'>>Producten-prijslijst'!C5","v":"kg"},{"$f":"'>>Producten-prijslijst'!D5","v":15.3},{"$f":"B5*D5","v":0},{"$f":"E20/$E$161","v":{"$error":"#DIV/0!"}}]
[{"$f":"'>>Producten-prijslijst'!B6","v":"Thee"},null,{"$f":"'>>Producten-prijslijst'!C6","v":"st"},{"$f":"'>>Producten-prijslijst'!D6","v":0.15},0]
[{"$f":"'>>Producten-prijslijst'!B7","v":"Plat water"},null,{"$f":"'>>Producten-prijslijst'!C7","v":"lt"},{"$f":"'>>Producten-prijslijst'!D7","v":0.98},0]
[{"$f":"'>>Producten-prijslijst'!B8","v":"Bruisend water"},null,{"$f":"'>>Producten-prijslijst'!C8","v":"lt"},{"$f":"'>>Producten-prijslijst'!D8","v":1.1000000000000001},0]
[{"$f":"'>>Producten-prijslijst'!B9","v":"Appelsiensap"},null,{"$f":"'>>Producten-prijslijst'!C9","v":"lt"},{"$f":"'>>Producten-prijslijst'!D9","v":3.2},0]
[{"$f":"'>>Producten-prijslijst'!B10","v":"Smoothie kiwi (250ml)"},null,{"$f":"'>>Producten-prijslijst'!C10","v":"st"},{"$f":"'>>Producten-prijslijst'!D10","v":1.33},0]
[{"$f":"'>>Producten-prijslijst'!B11","v":"Smoothie rood fruit (250ml)"},null,{"$f":"'>>Producten-prijslijst'!C11","v":"st"},{"$f":"'>>Producten-prijslijst'!D11","v":1.33},0]
[{"$f":"'>>Producten-prijslijst'!B12","v":"Appelsap"},null,{"$f":"'>>Producten-prijslijst'!C12","v":"lt"},{"$f":"'>>Producten-prijslijst'!D12","v":1.06},0]
[{"$f":"'>>Producten-prijslijst'!B13","v":"Tomatensap"},null,{"$f":"'>>Producten-prijslijst'!C13","v":"lt"},{"$f":"'>>Producten-prijslijst'!D13","v":0.99},0]
[{"$f":"'>>Producten-prijslijst'!B14","v":"Chocolademelk"},null,{"$f":"'>>Producten-prijslijst'!C14","v":"lt"},{"$f":"'>>Producten-prijslijst'!D14","v":1.63},0]
[{"$f":"'>>Producten-prijslijst'!B15","v":"Zelf invullen"},null,{"$f":"'>>Producten-prijslijst'!C15","v":0},{"$f":"'>>Producten-prijslijst'!D15","v":0},0]
[{"$f":"'>>Producten-prijslijst'!B16","v":"Zelf invullen"},null,{"$f":"'>>Producten-prijslijst'!C16","v":0},{"$f":"'>>Producten-prijslijst'!D16","v":0},0]
[{"$f":"'>>Producten-prijslijst'!B17","v":"Zelf invullen"},null,{"$f":"'>>Producten-prijslijst'!C17","v":0},{"$f":"'>>Producten-prijslijst'!D17","v":0},0]
[{"$f":"'>>Producten-prijslijst'!B18","v":"Zelf invullen"},null,{"$f":"'>>Producten-prijslijst'!C18","v":0},{"$f":"'>>Producten-prijslijst'!D18","v":0},0]
[{"$f":"'>>Producten-prijslijst'!B19","v":"Zelf invullen"},null,{"$f":"'>>Producten-prijslijst'!C19","v":0},{"$f":"'>>Producten-prijslijst'!D19","v":0},0]
["Subtotaal: ",null,null,null,{"$f":"SUM(E5:E19)","v":0}]
["Melkproducten"]
[{"$f":"'>>Producten-prijslijst'!B21","v":"Fruit yoghurt (150gr)"},null,{"$f":"'>>Producten-prijslijst'!C21","v":"st"},{"$f":"'>>Producten-prijslijst'!D21","v":0.43},{"$f":"B22*D22","v":0},{"$f":"E41/$E$161","v":{"$error":"#DIV/0!"}}]
[{"$f":"'>>Producten-prijslijst'!B22","v":"Yoghurt met cereals (100gr)"},null,{"$f":"'>>Producten-prijslijst'!C22","v":"st"},{"$f":"'>>Producten-prijslijst'!D22","v":0.55000000000000004},{"$f":"B23*D23","v":0}]
[{"$f":"'>>Producten-prijslijst'!B23","v":"Actimel (80gr)"},null,{"$f":"'>>Producten-prijslijst'!C23","v":"st"},{"$f":"'>>Producten-prijslijst'!D23","v":0.75},0]
[{"$f":"'>>Producten-prijslijst'!B24","v":"Melk"},null,{"$f":"'>>Producten-prijslijst'!C24","v":"lt"},{"$f":"'>>Producten-prijslijst'!D24","v":0.72},{"$f":"B25*D25","v":0}]
[{"$f":"'>>Producten-prijslijst'!B25","v":"Kaas plakken (20gr)"},null,{"$f":"'>>Producten-prijslijst'!C25","v":"st"},{"$f":"'>>Producten-prijslijst'!D25","v":0.16},0]
[{"$f":"'>>Producten-prijslijst'!B26","v":"Soja melk"},null,{"$f":"'>>Producten-prijslijst'!C26","v":"lt"},{"$f":"'>>Producten-prijslijst'!D26","v":3.2},0]
[{"$f":"'>>Producten-prijslijst'!B27","v":"Brie"},null,{"$f":"'>>Producten-prijslijst'!C27","v":"kg"},{"$f":"'>>Producten-prijslijst'!D27","v":18.52},0]
[{"$f":"'>>Producten-prijslijst'!B28","v":"Geitenkaas"},null,{"$f":"'>>Producten-prijslijst'!C28","v":"kg"},{"$f":"'>>Producten-prijslijst'!D28","v":12.4},0]
[{"$f":"'>>Producten-prijslijst'!B29","v":"Chimay Blauw"},null,{"$f":"'>>Producten-prijslijst'!C29","v":"kg"},{"$f":"'>>Producten-prijslijst'!D29","v":53.55},0]
[{"$f":"'>>Producten-prijslijst'!B30","v":"Cheddar"},null,{"$f":"'>>Producten-prijslijst'!C30","v":"kg"},{"$f":"'>>Producten-prijslijst'!D30","v":7.65},0]
[{"$f":"'>>Producten-prijslijst'!B31","v":"Maredsous"},null,{"$f":"'>>Producten-prijslijst'!C31","v":"kg"},{"$f":"'>>Producten-prijslijst'!D31","v":5.91},0]
[{"$f":"'>>Producten-prijslijst'!B32","v":"Kruidenkaas"},null,{"$f":"'>>Producten-prijslijst'!C32","v":"kg"},{"$f":"'>>Producten-prijslijst'!D32","v":9.68},0]
[{"$f":"'>>Producten-prijslijst'!B33","v":"Cottage cheese"},null,{"$f":"'>>Producten-prijslijst'!C33","v":"lt"},{"$f":"'>>Producten-prijslijst'!D33","v":6.33},0]
[{"$f":"'>>Producten-prijslijst'!B34","v":"Magere melk"},null,{"$f":"'>>Producten-prijslijst'!C34","v":"lt"},{"$f":"'>>Producten-prijslijst'!D34","v":0.64},0]
[{"$f":"'>>Producten-prijslijst'!B35","v":"Zelf invullen"},null,{"$f":"'>>Producten-prijslijst'!C36","v":0},{"$f":"'>>Producten-prijslijst'!D36","v":0},0]
[{"$f":"'>>Producten-prijslijst'!B36","v":"Zelf invullen"},null,{"$f":"'>>Producten-prijslijst'!C37","v":0},{"$f":"'>>Producten-prijslijst'!D37","v":0},0]
[{"$f":"'>>Producten-prijslijst'!B37","v":"Zelf invullen"},null,{"$f":"'>>Producten-prijslijst'!C38","v":0},{"$f":"'>>Producten-prijslijst'!D38","v":0},0]
[{"$f":"'>>Producten-prijslijst'!B38","v":"Zelf invullen"},null,{"$f":"'>>Producten-prijslijst'!C39","v":0},{"$f":"'>>Producten-prijslijst'!D39","v":0},0]
[{"$f":"'>>Producten-prijslijst'!B39","v":"Zelf invullen"},null,{"$f":"'>>Producten-prijslijst'!C40","v":0},{"$f":"'>>Producten-prijslijst'!D40","v":0},0]
["Subtotaal: ",null,null,null,{"$f":"SUM(E22:E40)","v":0}]
["Fruit"]
[{"$f":"'>>Producten-prijslijst'!B41","v":"Kiwi"},null,{"$f":"'>>Producten-prijslijst'!C41","v":"st"},{"$f":"'>>Producten-prijslijst'!D41","v":0.55000000000000004},{"$f":"B43*D43","v":0},{"$f":"E55/$E$161","v":{"$error":"#DIV/0!"}}]
[{"$f":"'>>Producten-prijslijst'!B42","v":"Appel"},null,{"$f":"'>>Producten-prijslijst'!C42","v":"kg"},{"$f":"'>>Producten-prijslijst'!D42","v":1.9},{"$f":"B44*D44","v":0}]
[{"$f":"'>>Producten-prijslijst'!B43","v":"Peer"},null,{"$f":"'>>Producten-prijslijst'!C43","v":"kg"},{"$f":"'>>Producten-prijslijst'!D43","v":2.1},0]
[{"$f":"'>>Producten-prijslijst'!B44","v":"Appelsien"},null,{"$f":"'>>Producten-prijslijst'!C44","v":"kg"},{"$f":"'>>Producten-prijslijst'!D44","v":2.2799999999999998},0]
[{"$f":"'>>Producten-prijslijst'!B45","v":"Druiven"},null,{"$f":"'>>Producten-prijslijst'!C45","v":"kg"},{"$f":"'>>Producten-prijslijst'!D45","v":4.42},0]
[{"$f":"'>>Producten-prijslijst'!B46","v":"Fruitsalade"},null,{"$f":"'>>Producten-prijslijst'!C46","v":"kg"},{"$f":"'>>Producten-prijslijst'!D46","v":5.0999999999999996},0]
[{"$f":"'>>Producten-prijslijst'!B47","v":"Banaan"},null,{"$f":"'>>Producten-prijslijst'!C47","v":"kg"},{"$f":"'>>Producten-prijslijst'!D47","v":2.87},0]
[{"$f":"'>>Producten-prijslijst'!B48","v":"Zelf invullen"},null,{"$f":"'>>Producten-prijslijst'!C48","v":0},{"$f":"'>>Producten-prijslijst'!D48","v":0},0]
[{"$f":"'>>Producten-prijslijst'!B49","v":"Zelf invullen"},null,{"$f":"'>>Producten-prijslijst'!C49","v":0},{"$f":"'>>Producten-prijslijst'!D49","v":0},0]
[{"$f":"'>>Producten-prijslijst'!B50","v":"Zelf invullen"},null,{"$f":"'>>Producten-prijslijst'!C50","v":0},{"$f":"'>>Producten-prijslijst'!D50","v":0},0]
[{"$f":"'>>Producten-prijslijst'!B51","v":"Zelf invullen"},null,{"$f":"'>>Producten-prijslijst'!C51","v":0},{"$f":"'>>Producten-prijslijst'!D51","v":0},0]
[{"$f":"'>>Producten-prijslijst'!B52","v":"Zelf invullen"},null,{"$f":"'>>Producten-prijslijst'!C52","v":0},{"$f":"'>>Producten-prijslijst'!D52","v":0},0]
["Subtotaal: ",null,null,null,{"$f":"SUM(E43:E54)","v":0}]
["Warm buffet"]
[{"$f":"'>>Producten-prijslijst'!B54","v":"Ei"},null,{"$f":"'>>Producten-prijslijst'!C54","v":"st"},{"$f":"'>>Producten-prijslijst'!D54","v":0.09},{"$f":"B57*D57","v":0},{"$f":"E68/$E$161","v":{"$error":"#DIV/0!"}}]
[{"$f":"'>>Producten-prijslijst'!B55","v":"Spek"},null,{"$f":"'>>Producten-prijslijst'!C55","v":"kg"},{"$f":"'>>Producten-prijslijst'!D55","v":9.32},{"$f":"B58*D58","v":0}]
[{"$f":"'>>Producten-prijslijst'!B56","v":"Mini worstjes"},null,{"$f":"'>>Producten-prijslijst'!C56","v":"kg"},{"$f":"'>>Producten-prijslijst'!D56","v":8.4},0]
[{"$f":"'>>Producten-prijslijst'!B57","v":"Tomaat"},null,{"$f":"'>>Producten-prijslijst'!C57","v":"kg"},{"$f":"'>>Producten-prijslijst'!D57","v":2.14},0]
[{"$f":"'>>Producten-prijslijst'!B58","v":"Gebakken champignons"},null,{"$f":"'>>Producten-prijslijst'!C58","v":"kg"},{"$f":"'>>Producten-prijslijst'!D58","v":7.8},0]
[{"$f":"'>>Producten-prijslijst'!B59","v":"Aardappelschijfjes"},null,{"$f":"'>>Producten-prijslijst'!C59","v":"kg"},{"$f":"'>>Producten-prijslijst'!D59","v":4},0]
[{"$f":"'>>Producten-prijslijst'!B60","v":"Zelf invullen"},null,{"$f":"'>>Producten-prijslijst'!C60","v":0},{"$f":"'>>Producten-prijslijst'!D60","v":0},0]
[{"$f":"'>>Producten-prijslijst'!B61","v":"Zelf invullen"},null,{"$f":"'>>Producten-prijslijst'!C61","v":0},{"$f":"'>>Producten-prijslijst'!D61","v":0},0]
[{"$f":"'>>Producten-prijslijst'!B62","v":"Zelf invullen"},null,{"$f":"'>>Producten-prijslijst'!C62","v":0},{"$f":"'>>Producten-prijslijst'!D62","v":0},0]
[{"$f":"'>>Producten-prijslijst'!B63","v":"Zelf invullen"},null,{"$f":"'>>Producten-prijslijst'!C63","v":0},{"$f":"'>>Producten-prijslijst'!D63","v":0},0]
[{"$f":"'>>Producten-prijslijst'!B64","v":"Zelf invullen"},null,{"$f":"'>>Producten-prijslijst'!C64","v":0},{"$f":"'>>Producten-prijslijst'!D64","v":0},0]
["Subtotaal: ",null,null,null,{"$f":"SUM(E57:E67)","v":0}]
["Vis"]
[{"$f":"'>>Producten-prijslijst'!B66","v":"Gerookte zalm"},null,{"$f":"'>>Producten-prijslijst'!C66","v":"kg"},{"$f":"'>>Producten-prijslijst'!D66","v":22.83},{"$f":"B70*D70","v":0},{"$f":"E80/$E$161","v":{"$error":"#DIV/0!"}}]
[{"$f":"'>>Producten-prijslijst'!B67","v":"Gerookte heilbot"},null,{"$f":"'>>Producten-prijslijst'!C67","v":"kg"},{"$f":"'>>Producten-prijslijst'!D67","v":31.78},{"$f":"B71*D71","v":0}]
[{"$f":"'>>Producten-prijslijst'!B68","v":"Maatjes"},null,{"$f":"'>>Producten-prijslijst'!C68","v":"kg"},{"$f":"'>>Producten-prijslijst'!D68","v":21.87},0]
[{"$f":"'>>Producten-prijslijst'!B69","v":"Garnalen"},null,{"$f":"'>>Producten-prijslijst'!C69","v":"kg"},{"$f":"'>>Producten-prijslijst'!D69","v":40},0]
[{"$f":"'>>Producten-prijslijst'!B70","v":"Wakame salade"},null,{"$f":"'>>Producten-prijslijst'!C70","v":"kg"},{"$f":"'>>Producten-prijslijst'!D70","v":18},0]
[{"$f":"'>>Producten-prijslijst'!B71","v":"Zelf invullen"},null,{"$f":"'>>Producten-prijslijst'!C71","v":0},{"$f":"'>>Producten-prijslijst'!D71","v":0},0]
[{"$f":"'>>Producten-prijslijst'!B72","v":"Zelf invullen"},null,{"$f":"'>>Producten-prijslijst'!C72","v":0},{"$f":"'>>Producten-prijslijst'!D72","v":0},0]
[{"$f":"'>>Producten-prijslijst'!B73","v":"Zelf invullen"},null,{"$f":"'>>Producten-prijslijst'!C73","v":0},{"$f":"'>>Producten-prijslijst'!D73","v":0},0]
[{"$f":"'>>Producten-prijslijst'!B74","v":"Zelf invullen"},null,{"$f":"'>>Producten-prijslijst'!C74","v":0},{"$f":"'>>Producten-prijslijst'!D74","v":0},0]
[{"$f":"'>>Producten-prijslijst'!B75","v":"Zelf invullen"},null,{"$f":"'>>Producten-prijslijst'!C75","v":0},{"$f":"'>>Producten-prijslijst'!D75","v":0},0]
["Subtotaal: ",null,null,null,{"$f":"SUM(E70:E79)","v":0}]
["Beleg"]
[{"$f":"'>>Producten-prijslijst'!B77","v":"Pancetta"},null,{"$f":"'>>Producten-prijslijst'!C77","v":"kg"},{"$f":"'>>Producten-prijslijst'!D77","v":10.27},{"$f":"B82*D82","v":0},{"$f":"E93/$E$161","v":{"$error":"#DIV/0!"}}]
[{"$f":"'>>Producten-prijslijst'!B78","v":"Gerookte kalkoen"},null,{"$f":"'>>Producten-prijslijst'!C78","v":"kg"},{"$f":"'>>Producten-prijslijst'!D78","v":9.27},{"$f":"B83*D83","v":0}]
[{"$f":"'>>Producten-prijslijst'!B79","v":"Gekookte ham"},null,{"$f":"'>>Producten-prijslijst'!C79","v":"kg"},{"$f":"'>>Producten-prijslijst'!D79","v":11.5},0]
[{"$f":"'>>Producten-prijslijst'!B80","v":"Ganda ham"},null,{"$f":"'>>Producten-prijslijst'!C80","v":"kg"},{"$f":"'>>Producten-prijslijst'!D80","v":36},0]
[{"$f":"'>>Producten-prijslijst'!B81","v":"Salami"},null,{"$f":"'>>Producten-prijslijst'!C81","v":"kg"},{"$f":"'>>Producten-prijslijst'!D81","v":11.51},0]
[{"$f":"'>>Producten-prijslijst'!B82","v":"Zwarte pens"},null,{"$f":"'>>Producten-prijslijst'!C82","v":"kg"},{"$f":"'>>Producten-prijslijst'!D82","v":10.119999999999999},0]
[{"$f":"'>>Producten-prijslijst'!B83","v":"Zelf invullen"},null,{"$f":"'>>Producten-prijslijst'!C83","v":0},{"$f":"'>>Producten-prijslijst'!D83","v":0},0]
[{"$f":"'>>Producten-prijslijst'!B84","v":"Zelf invullen"},null,{"$f":"'>>Producten-prijslijst'!C84","v":0},{"$f":"'>>Producten-prijslijst'!D84","v":0},0]
[{"$f":"'>>Producten-prijslijst'!B85","v":"Zelf invullen"},null,{"$f":"'>>Producten-prijslijst'!C85","v":0},{"$f":"'>>Producten-prijslijst'!D85","v":0},0]
[{"$f":"'>>Producten-prijslijst'!B86","v":"Zelf invullen"},null,{"$f":"'>>Producten-prijslijst'!C86","v":0},{"$f":"'>>Producten-prijslijst'!D86","v":0},0]
[{"$f":"'>>Producten-prijslijst'!B87","v":"Zelf invullen"},null,{"$f":"'>>Producten-prijslijst'!C87","v":0},{"$f":"'>>Producten-prijslijst'!D87","v":0},0]
["Subtotaal: ",null,null,null,{"$f":"SUM(E82:E92)","v":0}]
["Zoet"]
[{"$f":"'>>Producten-prijslijst'!B89","v":"Nutella (15gr)"},null,{"$f":"'>>Producten-prijslijst'!C89","v":"st"},{"$f":"'>>Producten-prijslijst'!D89","v":0.16},{"$f":"B95*D95","v":0},{"$f":"E106/$E$161","v":{"$error":"#DIV/0!"}}]
[{"$f":"'>>Producten-prijslijst'!B90","v":"Confituur (15gr)"},null,{"$f":"'>>Producten-prijslijst'!C90","v":"st"},{"$f":"'>>Producten-prijslijst'!D90","v":0.17},{"$f":"B96*D96","v":0}]
[{"$f":"'>>Producten-prijslijst'!B91","v":"Smeerkaas (17gr)"},null,{"$f":"'>>Producten-prijslijst'!C91","v":"st"},{"$f":"'>>Producten-prijslijst'!D91","v":0.21},0]
[{"$f":"'>>Producten-prijslijst'!B93","v":"Chocolade muizen (20gr)"},null,{"$f":"'>>Producten-prijslijst'!C93","v":"st"},{"$f":"'>>Producten-prijslijst'!D93","v":0.31},0]
[{"$f":"'>>Producten-prijslijst'!B94","v":"Zoetjes"},null,{"$f":"'>>Producten-prijslijst'!C94","v":"st"},{"$f":"'>>Producten-prijslijst'!D94","v":0.02},0]
[{"$f":"'>>Producten-prijslijst'!B95","v":"Suiker koffie (5gr)"},null,{"$f":"'>>Producten-prijslijst'!C95","v":"st"},{"$f":"'>>Producten-prijslijst'!D95","v":0.01},0]
[{"$f":"'>>Producten-prijslijst'!B96","v":"Zelf invullen"},null,{"$f":"'>>Producten-prijslijst'!C96","v":0},{"$f":"'>>Producten-prijslijst'!D96","v":0},0]
[{"$f":"'>>Producten-prijslijst'!B97","v":"Zelf invullen"},null,{"$f":"'>>Producten-prijslijst'!C97","v":0},{"$f":"'>>Producten-prijslijst'!D97","v":0},0]
[{"$f":"'>>Producten-prijslijst'!B98","v":"Zelf invullen"},null,{"$f":"'>>Producten-prijslijst'!C98","v":0},{"$f":"'>>Producten-prijslijst'!D98","v":0},0]
[{"$f":"'>>Producten-prijslijst'!B99","v":"Zelf invullen"},null,{"$f":"'>>Producten-prijslijst'!C99","v":0},{"$f":"'>>Producten-prijslijst'!D99","v":0},0]
[{"$f":"'>>Producten-prijslijst'!B100","v":"Zelf invullen"},null,{"$f":"'>>Producten-prijslijst'!C100","v":0},{"$f":"'>>Producten-prijslijst'!D100","v":0},0]
["Subtotaal: ",null,null,null,{"$f":"SUM(E95:E105)","v":0}]
["Salade en groenten"]
[{"$f":"'>>Producten-prijslijst'!B102","v":"Salade mix"},null,{"$f":"'>>Producten-prijslijst'!C102","v":"gr"},{"$f":"'>>Producten-prijslijst'!D102","v":0.01},{"$f":"B108*D108","v":0},{"$f":"E117/$E$161","v":{"$error":"#DIV/0!"}}]
[{"$f":"'>>Producten-prijslijst'!B103","v":"Sjalot"},null,{"$f":"'>>Producten-prijslijst'!C103","v":"kg"},{"$f":"'>>Producten-prijslijst'!D103","v":2.0699999999999998},{"$f":"B109*D109","v":0}]
[{"$f":"'>>Producten-prijslijst'!B104","v":"Kerstomaat"},null,{"$f":"'>>Producten-prijslijst'!C104","v":"kg"},{"$f":"'>>Producten-prijslijst'!D104","v":1.03},0]
[{"$f":"'>>Producten-prijslijst'!B105","v":"Mais"},null,{"$f":"'>>Producten-prijslijst'!C105","v":"gr"},{"$f":"'>>Producten-prijslijst'!D105","v":0.01},0]
[{"$f":"'>>Producten-prijslijst'!B106","v":"Zelf invullen"},null,{"$f":"'>>Producten-prijslijst'!C106","v":0},{"$f":"'>>Producten-prijslijst'!D106","v":0},0]
[{"$f":"'>>Producten-prijslijst'!B107","v":"Zelf invullen"},null,{"$f":"'>>Producten-prijslijst'!C107","v":0},{"$f":"'>>Producten-prijslijst'!D107","v":0},0]
[{"$f":"'>>Producten-prijslijst'!B108","v":"Zelf invullen"},null,{"$f":"'>>Producten-prijslijst'!C108","v":0},{"$f":"'>>Producten-prijslijst'!D108","v":0},0]
[{"$f":"'>>Producten-prijslijst'!B109","v":"Zelf invullen"},null,{"$f":"'>>Producten-prijslijst'!C109","v":0},{"$f":"'>>Producten-prijslijst'!D109","v":0},0]
[{"$f":"'>>Producten-prijslijst'!B110","v":"Zelf invullen"},null,{"$f":"'>>Producten-prijslijst'!C110","v":0},{"$f":"'>>Producten-prijslijst'!D110","v":0},0]
["Subtotaal: ",null,null,null,{"$f":"SUM(E108:E116)","v":0}]
["Garnituren"]
[{"$f":"'>>Producten-prijslijst'!B112","v":"Croutons"},null,{"$f":"'>>Producten-prijslijst'!C112","v":"kg"},{"$f":"'>>Producten-prijslijst'!D112","v":5.18},{"$f":"B119*D119","v":0},{"$f":"E133/$E$161","v":{"$error":"#DIV/0!"}}]
[{"$f":"'>>Producten-prijslijst'!B113","v":"Notenmix"},null,{"$f":"'>>Producten-prijslijst'!C113","v":"kg"},{"$f":"'>>Producten-prijslijst'!D113","v":23},{"$f":"B120*D120","v":0}]
[{"$f":"'>>Producten-prijslijst'!B114","v":"Augurken"},null,{"$f":"'>>Producten-prijslijst'!C114","v":"kg"},{"$f":"'>>Producten-prijslijst'!D114","v":3.36},0]
[{"$f":"'>>Producten-prijslijst'!B115","v":"Mini uitjes op azijn"},null,{"$f":"'>>Producten-prijslijst'!C115","v":"kg"},{"$f":"'>>Producten-prijslijst'!D115","v":1.81},0]
[{"$f":"'>>Producten-prijslijst'!B116","v":"Kappertjes"},null,{"$f":"'>>Producten-prijslijst'!C116","v":"lt"},{"$f":"'>>Producten-prijslijst'!D116","v":14.67},0]
[{"$f":"'>>Producten-prijslijst'!B117","v":"Gehakte peterselie"},null,{"$f":"'>>Producten-prijslijst'!C117","v":"kg"},{"$f":"'>>Producten-prijslijst'!D117","v":18.5},0]
[{"$f":"'>>Producten-prijslijst'!B118","v":"Citroen in kwartjes"},null,{"$f":"'>>Producten-prijslijst'!C118","v":"st"},{"$f":"'>>Producten-prijslijst'!D118","v":0.45},0]
[{"$f":"'>>Producten-prijslijst'!B119","v":"Boter (8gr)"},null,{"$f":"'>>Producten-prijslijst'!C119","v":"st"},{"$f":"'>>Producten-prijslijst'!D119","v":0.08},0]
[{"$f":"'>>Producten-prijslijst'!B120","v":"Margarine (15gr)"},null,{"$f":"'>>Producten-prijslijst'!C120","v":"st"},{"$f":"'>>Producten-prijslijst'!D120","v":0.05},0]
[{"$f":"'>>Producten-prijslijst'!B121","v":"Zelf invullen"},null,{"$f":"'>>Producten-prijslijst'!C121","v":0},{"$f":"'>>Producten-prijslijst'!D121","v":0},0]
[{"$f":"'>>Producten-prijslijst'!B122","v":"Zelf invullen"},null,{"$f":"'>>Producten-prijslijst'!C122","v":0},{"$f":"'>>Producten-prijslijst'!D122","v":0},0]
[{"$f":"'>>Producten-prijslijst'!B123","v":"Zelf invullen"},null,{"$f":"'>>Producten-prijslijst'!C123","v":0},{"$f":"'>>Producten-prijslijst'!D123","v":0},0]
[{"$f":"'>>Producten-prijslijst'!B124","v":"Zelf invullen"},null,{"$f":"'>>Producten-prijslijst'!C124","v":0},{"$f":"'>>Producten-prijslijst'!D124","v":0},0]
[{"$f":"'>>Producten-prijslijst'!B125","v":"Zelf invullen"},null,{"$f":"'>>Producten-prijslijst'!C125","v":0},{"$f":"'>>Producten-prijslijst'!D125","v":0},0]
["Subtotaal: ",null,null,null,{"$f":"SUM(E119:E132)","v":0}]
["Brood"]
[{"$f":"'>>Producten-prijslijst'!B127","v":"Chocolade broodje premium"},null,{"$f":"'>>Producten-prijslijst'!C127","v":"st"},{"$f":"'>>Producten-prijslijst'!D127","v":0.73645833333333333},{"$f":"B135*D135","v":0},{"$f":"E160/$E$161","v":{"$error":"#DIV/0!"}}]
[{"$f":"'>>Producten-prijslijst'!B128","v":"Chocoladebroodje"},null,{"$f":"'>>Producten-prijslijst'!C128","v":"st"},{"$f":"'>>Producten-prijslijst'!D128","v":0.57625000000000004},{"$f":"B136*D136","v":0}]
[{"$f":"'>>Producten-prijslijst'!B129","v":"Golden croissant"},null,{"$f":"'>>Producten-prijslijst'!C129","v":"st"},{"$f":"'>>Producten-prijslijst'!D129","v":0.49},0]
[{"$f":"'>>Producten-prijslijst'!B130","v":"Croissant recht"},null,{"$f":"'>>Producten-prijslijst'!C130","v":"st"},{"$f":"'>>Producten-prijslijst'!D130","v":0.49},0]
[{"$f":"'>>Producten-prijslijst'!B131","v":"Premium suisse rond"},null,{"$f":"'>>Producten-prijslijst'!C131","v":"st"},{"$f":"'>>Producten-prijslijst'!D131","v":0.89611111111111108},0]
[{"$f":"'>>Producten-prijslijst'!B132","v":"Cinnamon scandi swirl"},null,{"$f":"'>>Producten-prijslijst'!C132","v":"st"},{"$f":"'>>Producten-prijslijst'!D132","v":0.99},0]
[{"$f":"'>>Producten-prijslijst'!B133","v":"Mini assortiment viennoiserie"},null,{"$f":"'>>Producten-prijslijst'!C133","v":"st"},{"$f":"'>>Producten-prijslijst'!D133","v":0.11295555555555555},0]
[{"$f":"'>>Producten-prijslijst'!B134","v":"Mini danish selection"},null,{"$f":"'>>Producten-prijslijst'!C134","v":"st"},{"$f":"'>>Producten-prijslijst'!D134","v":0.50071428571428567},0]
[{"$f":"'>>Producten-prijslijst'!B135","v":"Mini croissant gevuld"},null,{"$f":"'>>Producten-prijslijst'!C135","v":"st"},{"$f":"'>>Producten-prijslijst'!D135","v":0.65388888888888896},0]
[{"$f":"'>>Producten-prijslijst'!B136","v":"Assortiment resto"},null,{"$f":"'>>Producten-prijslijst'!C136","v":"st"},{"$f":"'>>Producten-prijslijst'!D136","v":0.25170000000000003},0]
[{"$f":"'>>Producten-prijslijst'!B137","v":"Assortiment Prestige"},null,{"$f":"'>>Producten-prijslijst'!C137","v":"st"},{"$f":"'>>Producten-prijslijst'!D137","v":0.33829999999999999},0]
[{"$f":"'>>Producten-prijslijst'!B138","v":"Midi rozenbroodje volkoren"},null,{"$f":"'>>Producten-prijslijst'!C138","v":"st"},{"$f":"'>>Producten-prijslijst'!D138","v":0.33437499999999998},0]
[{"$f":"'>>Producten-prijslijst'!B139","v":"Molenaarsbrood donker"},null,{"$f":"'>>Producten-prijslijst'!C139","v":"st"},{"$f":"'>>Producten-prijslijst'!D139","v":4.2287499999999998},0]
[{"$f":"'>>Producten-prijslijst'!B140","v":"Molenaarsbrood meergranen"},null,{"$f":"'>>Producten-prijslijst'!C140","v":"st"},{"$f":"'>>Producten-prijslijst'!D140","v":4.2287499999999998},0]
[{"$f":"'>>Producten-prijslijst'!B141","v":"Molenaarsbrood wit"},null,{"$f":"'>>Producten-prijslijst'!C141","v":"st"},{"$f":"'>>Producten-prijslijst'!D141","v":4.2287499999999998},0]
[{"$f":"'>>Producten-prijslijst'!B142","v":"Toast brood wit"},null,{"$f":"'>>Producten-prijslijst'!C142","v":"st"},{"$f":"'>>Producten-prijslijst'!D142","v":3.2374999999999998},0]
[{"$f":"'>>Producten-prijslijst'!B143","v":"Toastbrood premium country"},null,{"$f":"'>>Producten-prijslijst'!C143","v":"st"},{"$f":"'>>Producten-prijslijst'!D143","v":4.51},0]
[{"$f":"'>>Producten-prijslijst'!B144","v":"PLUS Stokbrood wit bebloemd"},null,{"$f":"'>>Producten-prijslijst'!C144","v":"st"},{"$f":"'>>Producten-prijslijst'!D144","v":1.0980000000000001},0]
[{"$f":"'>>Producten-prijslijst'!B145","v":"PLUS fitness stokbrood"},null,{"$f":"'>>Producten-prijslijst'!C145","v":"st"},{"$f":"'>>Producten-prijslijst'!D145","v":1.23},0]
[{"$f":"'>>Producten-prijslijst'!B146","v":"Glutenvrij broodje wit"},null,{"$f":"'>>Producten-prijslijst'!C146","v":"st"},{"$f":"'>>Producten-prijslijst'!D146","v":1.12625},0]
[{"$f":"'>>Producten-prijslijst'!B147","v":"Zelf invullen"},null,{"$f":"'>>Producten-prijslijst'!C147","v":0},{"$f":"'>>Producten-prijslijst'!D147","v":0},0]
[{"$f":"'>>Producten-prijslijst'!B148","v":"Zelf invullen"},null,{"$f":"'>>Producten-prijslijst'!C148","v":0},{"$f":"'>>Producten-prijslijst'!D148","v":0},0]
[{"$f":"'>>Producten-prijslijst'!B149","v":"Zelf invullen"},null,{"$f":"'>>Producten-prijslijst'!C149","v":0},{"$f":"'>>Producten-prijslijst'!D149","v":0},0]
[{"$f":"'>>Producten-prijslijst'!B150","v":"Zelf invullen"},null,{"$f":"'>>Producten-prijslijst'!C150","v":0},{"$f":"'>>Producten-prijslijst'!D150","v":0},0]
[{"$f":"'>>Producten-prijslijst'!B151","v":"Zelf invullen"},null,{"$f":"'>>Producten-prijslijst'!C151","v":0},{"$f":"'>>Producten-prijslijst'!D151","v":0},0]
["Subtotaal: ",null,null,null,{"$f":"SUM(E135:E159)","v":0}]
["Totaal: ",null,null,null,{"$f":"E20+E41+E55+E68+E80+E93+E106+E117+E133+E160","v":0}]
["Totaal aantal gasten: ",null,"0"]
["Kost per persoon: ",null,{"$f":"E161/C162","v":{"$error":"#DIV/0!"}}]

{"sheet":"Basic Onbijtbuffet","index":3,"n_rows":164,"n_cols":6,"rows_kept":164,"cut":false,"hidden":false,"merged":[[163,0,163,1],[55,0,55,5],[69,5,79,5],[79,0,79,3],[92,0,92,3],[162,0,162,1],[161,0,161,3],[108,5,117,5],[117,0,117,3],[118,0,118,5],[119,5,133,5],[133,0,133,3],[41,0,41,5],[42,5,54,5],[54,0,54,3],[3,0,3,5],[4,5,19,5],[19,0,19,3],[20,0,20,5],[1,0,1,5],[0,0,0,5],[134,0,134,5],[135,5,160,5],[160,0,160,3],[93,0,93,5],[94,5,106,5],[106,0,106,3],[107,0,107,5],[80,0,80,5],[81,5,92,5],[56,5,67,5],[67,0,67,3],[68,0,68,5],[21,5,40,5],[40,0,40,3]]}
["BASIC ONBIJTBUFFET"]
["Voorbeeld van een eenvoudig en betaalbaar hotelontbijt, samengesteld door onze chefs. Gebruik dit als inspiratie of pas het aan naar jouw eigen aanbod."]
["INGREDIËNTEN","HOEVEELHEID","EENHEID","AANKOOPPRIJS","FOODCOST","FOODCOST % PER CATEGORIE"]
["Drank"]
[{"$f":"'>>Producten-prijslijst'!B5","v":"Koffie"},0.5,{"$f":"'>>Producten-prijslijst'!C5","v":"kg"},{"$f":"'>>Producten-prijslijst'!D5","v":15.3},{"$f":"B5*D5","v":7.65},{"$f":"E20/$E$162","v":6.6903743164511378E-2}]
[{"$f":"'>>Producten-prijslijst'!B6","v":"Thee"},1,{"$f":"'>>Producten-prijslijst'!C6","v":"st"},{"$f":"'>>Producten-prijslijst'!D6","v":0.15},0.15]
[{"$f":"'>>Producten-prijslijst'!B7","v":"Plat water"},0.33,{"$f":"'>>Producten-prijslijst'!C7","v":"lt"},{"$f":"'>>Producten-prijslijst'!D7","v":0.98},0.32340000000000002]
[{"$f":"'>>Producten-prijslijst'!B8","v":"Bruisend water"},0.33,{"$f":"'>>Producten-prijslijst'!C8","v":"lt"},{"$f":"'>>Producten-prijslijst'!D8","v":1.1000000000000001},0.36300000000000004]
[{"$f":"'>>Producten-prijslijst'!B9","v":"Appelsiensap"},2,{"$f":"'>>Producten-prijslijst'!C9","v":"lt"},{"$f":"'>>Producten-prijslijst'!D9","v":3.2},6.4]
[{"$f":"'>>Producten-prijslijst'!B10","v":"Smoothie kiwi (250ml)"},null,{"$f":"'>>Producten-prijslijst'!C10","v":"st"},{"$f":"'>>Producten-prijslijst'!D10","v":1.33},0]
[{"$f":"'>>Producten-prijslijst'!B11","v":"Smoothie rood fruit (250ml)"},null,{"$f":"'>>Producten-prijslijst'!C11","v":"st"},{"$f":"'>>Producten-prijslijst'!D11","v":1.33},0]
[{"$f":"'>>Producten-prijslijst'!B12","v":"Appelsap"},2,{"$f":"'>>Producten-prijslijst'!C12","v":"lt"},{"$f":"'>>Producten-prijslijst'!D12","v":1.06},2.12]
[{"$f":"'>>Producten-prijslijst'!B13","v":"Tomatensap"},null,{"$f":"'>>Producten-prijslijst'!C13","v":"lt"},{"$f":"'>>Producten-prijslijst'!D13","v":0.99},0]
[{"$f":"'>>Producten-prijslijst'!B14","v":"Chocolademelk"},0.5,{"$f":"'>>Producten-prijslijst'!C14","v":"lt"},{"$f":"'>>Producten-prijslijst'!D14","v":1.63},0.81499999999999995]
[{"$f":"'>>Producten-prijslijst'!B15","v":"Zelf invullen"},null,{"$f":"'>>Producten-prijslijst'!C15","v":0},{"$f":"'>>Producten-prijslijst'!D15","v":0},{"$f":"B15*D15","v":0}]
[{"$f":"'>>Producten-prijslijst'!B16","v":"Zelf invullen"},null,{"$f":"'>>Producten-prijslijst'!C16","v":0},{"$f":"'>>Producten-prijslijst'!D16","v":0},0]
[{"$f":"'>>Producten-prijslijst'!B17","v":"Zelf invullen"},null,{"$f":"'>>Producten-prijslijst'!C17","v":0},{"$f":"'>>Producten-prijslijst'!D17","v":0},0]
[{"$f":"'>>Producten-prijslijst'!B18","v":"Zelf invullen"},null,{"$f":"'>>Producten-prijslijst'!C18","v":0},{"$f":"'>>Producten-prijslijst'!D18","v":0},0]
[{"$f":"'>>Producten-prijslijst'!B19","v":"Zelf invullen"},null,{"$f":"'>>Producten-prijslijst'!C19","v":0},{"$f":"'>>Producten-prijslijst'!D19","v":0},0]
["Subtotaal: ",null,null,null,{"$f":"SUM(E5:E19)","v":17.821400000000001}]
["Melkproducten"]
[{"$f":"'>>Producten-prijslijst'!B21","v":"Fruit yoghurt (150gr)"},20,{"$f":"'>>Producten-prijslijst'!C21","v":"st"},{"$f":"'>>Producten-prijslijst'!D21","v":0.43},{"$f":"B22*D22","v":8.6},{"$f":"E41/$E$162","v":0.10107790817965404}]
[{"$f":"'>>Producten-prijslijst'!B22","v":"Yoghurt met cereals (100gr)"},null,{"$f":"'>>Producten-prijslijst'!C22","v":"st"},{"$f":"'>>Producten-prijslijst'!D22","v":0.55000000000000004},{"$f":"B23*D23","v":0}]
[{"$f":"'>>Producten-prijslijst'!B23","v":"Actimel (80gr)"},null,{"$f":"'>>Producten-prijslijst'!C23","v":"st"},{"$f":"'>>Producten-prijslijst'!D23","v":0.75},0]
[{"$f":"'>>Producten-prijslijst'!B24","v":"Melk"},0.2,{"$f":"'>>Producten-prijslijst'!C24","v":"lt"},{"$f":"'>>Producten-prijslijst'!D24","v":0.72},{"$f":"B25*D25","v":0.14399999999999999}]
[{"$f":"'>>Producten-prijslijst'!B25","v":"Kaas plakken (20gr)"},0.5,{"$f":"'>>Producten-prijslijst'!C25","v":"st"},{"$f":"'>>Producten-prijslijst'!D25","v":0.16},0.08]
[{"$f":"'>>Producten-prijslijst'!B26","v":"Soja melk"},1,{"$f":"'>>Producten-prijslijst'!C26","v":"lt"},{"$f":"'>>Producten-prijslijst'!D26","v":3.2},3.2]
[{"$f":"'>>Producten-prijslijst'!B27","v":"Brie"},0.25,{"$f":"'>>Producten-prijslijst'!C27","v":"kg"},{"$f":"'>>Producten-prijslijst'!D27","v":18.52},4.63]
[{"$f":"'>>Producten-prijslijst'!B28","v":"Geitenkaas"},null,{"$f":"'>>Producten-prijslijst'!C28","v":"kg"},{"$f":"'>>Producten-prijslijst'!D28","v":12.4},0]
[{"$f":"'>>Producten-prijslijst'!B29","v":"Chimay Blauw"},null,{"$f":"'>>Producten-prijslijst'!C29","v":"kg"},{"$f":"'>>Producten-prijslijst'!D29","v":53.55},0]
[{"$f":"'>>Producten-prijslijst'!B30","v":"Cheddar"},0.5,{"$f":"'>>Producten-prijslijst'!C30","v":"kg"},{"$f":"'>>Producten-prijslijst'!D30","v":7.65},3.8250000000000002]
[{"$f":"'>>Producten-prijslijst'!B31","v":"Maredsous"},0.25,{"$f":"'>>Producten-prijslijst'!C31","v":"kg"},{"$f":"'>>Producten-prijslijst'!D31","v":5.91},1.4775]
[{"$f":"'>>Producten-prijslijst'!B32","v":"Kruidenkaas"},0.5,{"$f":"'>>Producten-prijslijst'!C32","v":"kg"},{"$f":"'>>Producten-prijslijst'!D32","v":9.68},4.84]
[{"$f":"'>>Producten-prijslijst'!B33","v":"Cottage cheese"},null,{"$f":"'>>Producten-prijslijst'!C33","v":"lt"},{"$f":"'>>Producten-prijslijst'!D33","v":6.33},0]
[{"$f":"'>>Producten-prijslijst'!B34","v":"Magere melk"},0.2,{"$f":"'>>Producten-prijslijst'!C34","v":"lt"},{"$f":"'>>Producten-prijslijst'!D34","v":0.64},0.128]
[{"$f":"'>>Producten-prijslijst'!B35","v":"Zelf invullen"},null,{"$f":"'>>Producten-prijslijst'!C36","v":0},{"$f":"'>>Producten-prijslijst'!D36","v":0},0]
[{"$f":"'>>Producten-prijslijst'!B36","v":"Zelf invullen"},null,{"$f":"'>>Producten-prijslijst'!C37","v":0},{"$f":"'>>Producten-prijslijst'!D37","v":0},0]
[{"$f":"'>>Producten-prijslijst'!B37","v":"Zelf invullen"},null,{"$f":"'>>Producten-prijslijst'!C38","v":0},{"$f":"'>>Producten-prijslijst'!D38","v":0},0]
[{"$f":"'>>Producten-prijslijst'!B38","v":"Zelf invullen"},null,{"$f":"'>>Producten-prijslijst'!C39","v":0},{"$f":"'>>Producten-prijslijst'!D39","v":0},0]
[{"$f":"'>>Producten-prijslijst'!B39","v":"Zelf invullen"},null,{"$f":"'>>Producten-prijslijst'!C40","v":0},{"$f":"'>>Producten-prijslijst'!D40","v":0},0]
["Subtotaal: ",null,null,null,{"$f":"SUM(E22:E40)","v":26.924499999999998}]
["Fruit"]
[{"$f":"'>>Producten-prijslijst'!B41","v":"Kiwi"},null,{"$f":"'>>Producten-prijslijst'!C41","v":"st"},{"$f":"'>>Producten-prijslijst'!D41","v":0.55000000000000004},{"$f":"B43*D43","v":0},{"$f":"E55/$E$162","v":5.229494553074638E-2}]
[{"$f":"'>>Producten-prijslijst'!B42","v":"Appel"},1,{"$f":"'>>Producten-prijslijst'!C42","v":"kg"},{"$f":"'>>Producten-prijslijst'!D42","v":1.9},{"$f":"B44*D44","v":1.9}]
[{"$f":"'>>Producten-prijslijst'!B43","v":"Peer"},1,{"$f":"'>>Producten-prijslijst'!C43","v":"kg"},{"$f":"'>>Producten-prijslijst'!D43","v":2.1},2.1]
[{"$f":"'>>Producten-prijslijst'!B44","v":"Appelsien"},1,{"$f":"'>>Producten-prijslijst'!C44","v":"kg"},{"$f":"'>>Producten-prijslijst'!D44","v":2.2799999999999998},2.2799999999999998]
[{"$f":"'>>Producten-prijslijst'!B45","v":"Druiven"},null,{"$f":"'>>Producten-prijslijst'!C45","v":"kg"},{"$f":"'>>Producten-prijslijst'!D45","v":4.42},0]
[{"$f":"'>>Producten-prijslijst'!B46","v":"Fruitsalade"},1.5,{"$f":"'>>Producten-prijslijst'!C46","v":"kg"},{"$f":"'>>Producten-prijslijst'!D46","v":5.0999999999999996},7.6499999999999995]
[{"$f":"'>>Producten-prijslijst'!B47","v":"Banaan"},null,{"$f":"'>>Producten-prijslijst'!C47","v":"kg"},{"$f":"'>>Producten-prijslijst'!D47","v":2.87},0]
[{"$f":"'>>Producten-prijslijst'!B48","v":"Zelf invullen"},null,{"$f":"'>>Producten-prijslijst'!C48","v":0},{"$f":"'>>Producten-prijslijst'!D48","v":0},0]
[{"$f":"'>>Producten-prijslijst'!B49","v":"Zelf invullen"},null,{"$f":"'>>Producten-prijslijst'!C49","v":0},{"$f":"'>>Producten-prijslijst'!D49","v":0},0]
[{"$f":"'>>Producten-prijslijst'!B50","v":"Zelf invullen"},null,{"$f":"'>>Producten-prijslijst'!C50","v":0},{"$f":"'>>Producten-prijslijst'!D50","v":0},0]
[{"$f":"'>>Producten-prijslijst'!B51","v":"Zelf invullen"},null,{"$f":"'>>Producten-prijslijst'!C51","v":0},{"$f":"'>>Producten-prijslijst'!D51","v":0},0]
[{"$f":"'>>Producten-prijslijst'!B52","v":"Zelf invullen"},null,{"$f":"'>>Producten-prijslijst'!C52","v":0},{"$f":"'>>Producten-prijslijst'!D52","v":0},0]
["Subtotaal: ",null,null,null,{"$f":"SUM(E43:E54)","v":13.93}]
["Warm buffet"]
[{"$f":"'>>Producten-prijslijst'!B54","v":"Ei"},36,{"$f":"'>>Producten-prijslijst'!C54","v":"st"},{"$f":"'>>Producten-prijslijst'!D54","v":0.09},{"$f":"B57*D57","v":3.2399999999999998},{"$f":"E68/$E$162","v":6.1192219106329222E-2}]
[{"$f":"'>>Producten-prijslijst'!B55","v":"Spek"},0.5,{"$f":"'>>Producten-prijslijst'!C55","v":"kg"},{"$f":"'>>Producten-prijslijst'!D55","v":9.32},{"$f":"B58*D58","v":4.66}]
[{"$f":"'>>Producten-prijslijst'!B56","v":"Mini worstjes"},1,{"$f":"'>>Producten-prijslijst'!C56","v":"kg"},{"$f":"'>>Producten-prijslijst'!D56","v":8.4},8.4]
[{"$f":"'>>Producten-prijslijst'!B57","v":"Tomaat"},null,{"$f":"'>>Producten-prijslijst'!C57","v":"kg"},{"$f":"'>>Producten-prijslijst'!D57","v":2.14},0]
[{"$f":"'>>Producten-prijslijst'!B58","v":"Gebakken champignons"},null,{"$f":"'>>Producten-prijslijst'!C58","v":"kg"},{"$f":"'>>Producten-prijslijst'!D58","v":7.8},0]
[{"$f":"'>>Producten-prijslijst'!B59","v":"Aardappelschijfjes"},null,{"$f":"'>>Producten-prijslijst'!C59","v":"kg"},{"$f":"'>>Producten-prijslijst'!D59","v":4},0]
[{"$f":"'>>Producten-prijslijst'!B60","v":"Zelf invullen"},null,{"$f":"'>>Producten-prijslijst'!C60","v":0},{"$f":"'>>Producten-prijslijst'!D60","v":0},0]
[{"$f":"'>>Producten-prijslijst'!B61","v":"Zelf invullen"},null,{"$f":"'>>Producten-prijslijst'!C61","v":0},{"$f":"'>>Producten-prijslijst'!D61","v":0},0]
[{"$f":"'>>Producten-prijslijst'!B62","v":"Zelf invullen"},null,{"$f":"'>>Producten-prijslijst'!C62","v":0},{"$f":"'>>Producten-prijslijst'!D62","v":0},0]
[{"$f":"'>>Producten-prijslijst'!B63","v":"Zelf invullen"},null,{"$f":"'>>Producten-prijslijst'!C63","v":0},{"$f":"'>>Producten-prijslijst'!D63","v":0},0]
[{"$f":"'>>Producten-prijslijst'!B64","v":"Zelf invullen"},null,{"$f":"'>>Producten-prijslijst'!C64","v":0},{"$f":"'>>Producten-prijslijst'!D64","v":0},0]
["Subtotaal: ",null,null,null,{"$f":"SUM(E57:E67)","v":16.3}]
["Vis"]
[{"$f":"'>>Producten-prijslijst'!B66","v":"Gerookte zalm"},1,{"$f":"'>>Producten-prijslijst'!C66","v":"kg"},{"$f":"'>>Producten-prijslijst'!D66","v":22.83},{"$f":"B70*D70","v":22.83},{"$f":"E80/$E$162","v":9.2464070956373531E-2}]
[{"$f":"'>>Producten-prijslijst'!B67","v":"Gerookte heilbot"},null,{"$f":"'>>Producten-prijslijst'!C67","v":"kg"},{"$f":"'>>Producten-prijslijst'!D67","v":31.78},{"$f":"B71*D71","v":0}]
[{"$f":"'>>Producten-prijslijst'!B68","v":"Maatjes"},null,{"$f":"'>>Producten-prijslijst'!C68","v":"kg"},{"$f":"'>>Producten-prijslijst'!D68","v":21.87},0]
[{"$f":"'>>Producten-prijslijst'!B69","v":"Garnalen"},null,{"$f":"'>>Producten-prijslijst'!C69","v":"kg"},{"$f":"'>>Producten-prijslijst'!D69","v":40},0]
[{"$f":"'>>Producten-prijslijst'!B70","v":"Wakame salade"},0.1,{"$f":"'>>Producten-prijslijst'!C70","v":"kg"},{"$f":"'>>Producten-prijslijst'!D70","v":18},1.8]
[{"$f":"'>>Producten-prijslijst'!B71","v":"Zelf invullen"},null,{"$f":"'>>Producten-prijslijst'!C71","v":0},{"$f":"'>>Producten-prijslijst'!D71","v":0},0]
[{"$f":"'>>Producten-prijslijst'!B72","v":"Zelf invullen"},null,{"$f":"'>>Producten-prijslijst'!C72","v":0},{"$f":"'>>Producten-prijslijst'!D72","v":0},0]
[{"$f":"'>>Producten-prijslijst'!B73","v":"Zelf invullen"},null,{"$f":"'>>Producten-prijslijst'!C73","v":0},{"$f":"'>>Producten-prijslijst'!D73","v":0},0]
[{"$f":"'>>Producten-prijslijst'!B74","v":"Zelf invullen"},null,{"$f":"'>>Producten-prijslijst'!C74","v":0},{"$f":"'>>Producten-prijslijst'!D74","v":0},0]
[{"$f":"'>>Producten-prijslijst'!B75","v":"Zelf invullen"},null,{"$f":"'>>Producten-prijslijst'!C75","v":0},{"$f":"'>>Producten-prijslijst'!D75","v":0},0]
["Subtotaal: ",null,null,null,{"$f":"SUM(E70:E79)","v":24.63}]
["Charcuterie"]
[{"$f":"'>>Producten-prijslijst'!B77","v":"Pancetta"},null,{"$f":"'>>Producten-prijslijst'!C77","v":"kg"},{"$f":"'>>Producten-prijslijst'!D77","v":10.27},{"$f":"B82*D82","v":0},{"$f":"E93/$E$162","v":2.8553866167039265E-2}]
[{"$f":"'>>Producten-prijslijst'!B78","v":"Gerookte kalkoen"},0.2,{"$f":"'>>Producten-prijslijst'!C78","v":"kg"},{"$f":"'>>Producten-prijslijst'!D78","v":9.27},{"$f":"B83*D83","v":1.8540000000000001}]
[{"$f":"'>>Producten-prijslijst'!B79","v":"Gekookte ham"},0.3,{"$f":"'>>Producten-prijslijst'!C79","v":"kg"},{"$f":"'>>Producten-prijslijst'!D79","v":11.5},3.4499999999999997]
[{"$f":"'>>Producten-prijslijst'!B80","v":"Ganda ham"},null,{"$f":"'>>Producten-prijslijst'!C80","v":"kg"},{"$f":"'>>Producten-prijslijst'!D80","v":36},0]
[{"$f":"'>>Producten-prijslijst'!B81","v":"Salami"},0.2,{"$f":"'>>Producten-prijslijst'!C81","v":"kg"},{"$f":"'>>Producten-prijslijst'!D81","v":11.51},2.302]
[{"$f":"'>>Producten-prijslijst'!B82","v":"Zwarte pens"},null,{"$f":"'>>Producten-prijslijst'!C82","v":"kg"},{"$f":"'>>Producten-prijslijst'!D82","v":10.119999999999999},0]
[{"$f":"'>>Producten-prijslijst'!B83","v":"Zelf invullen"},null,{"$f":"'>>Producten-prijslijst'!C83","v":0},{"$f":"'>>Producten-prijslijst'!D83","v":0},0]
[{"$f":"'>>Producten-prijslijst'!B84","v":"Zelf invullen"},null,{"$f":"'>>Producten-prijslijst'!C84","v":0},{"$f":"'>>Producten-prijslijst'!D84","v":0},0]
[{"$f":"'>>Producten-prijslijst'!B85","v":"Zelf invullen"},null,{"$f":"'>>Producten-prijslijst'!C85","v":0},{"$f":"'>>Producten-prijslijst'!D85","v":0},0]
[{"$f":"'>>Producten-prijslijst'!B86","v":"Zelf invullen"},null,{"$f":"'>>Producten-prijslijst'!C86","v":0},{"$f":"'>>Producten-prijslijst'!D86","v":0},0]
[{"$f":"'>>Producten-prijslijst'!B87","v":"Zelf invullen"},null,{"$f":"'>>Producten-prijslijst'!C87","v":0},{"$f":"'>>Producten-prijslijst'!D87","v":0},0]
["Subtotaal: ",null,null,null,{"$f":"SUM(E82:E92)","v":7.6059999999999999}]
["Zoet"]
[{"$f":"'>>Producten-prijslijst'!B89","v":"Nutella (15gr)"},{"$f":"120*0.2","v":24},{"$f":"'>>Producten-prijslijst'!C89","v":"st"},{"$f":"'>>Producten-prijslijst'!D89","v":0.16},{"$f":"B95*D95","v":3.84},{"$f":"E107/$E$162","v":7.1853930901542407E-2}]
[{"$f":"'>>Producten-prijslijst'!B90","v":"Confituur (15gr)"},{"$f":"100*0.2","v":20},{"$f":"'>>Producten-prijslijst'!C90","v":"st"},{"$f":"'>>Producten-prijslijst'!D90","v":0.17},{"$f":"B96*D96","v":3.4000000000000004}]
[{"$f":"'>>Producten-prijslijst'!B91","v":"Smeerkaas (17gr)"},{"$f":"80*0.2","v":16},{"$f":"'>>Producten-prijslijst'!C91","v":"st"},{"$f":"'>>Producten-prijslijst'!D91","v":0.21},3.36]
[{"$f":"'>>Producten-prijslijst'!B92","v":"Pannenkoeken"},null,"st",{"$f":"'>>Producten-prijslijst'!D92","v":2.2599999999999998},0]
[{"$f":"'>>Producten-prijslijst'!B93","v":"Chocolade muizen (20gr)"},{"$f":"120*0.2","v":24},{"$f":"'>>Producten-prijslijst'!C93","v":"st"},{"$f":"'>>Producten-prijslijst'!D93","v":0.31},7.4399999999999995]
[{"$f":"'>>Producten-prijslijst'!B94","v":"Zoetjes"},{"$f":"500*0.05","v":25},{"$f":"'>>Producten-prijslijst'!C94","v":"st"},{"$f":"'>>Producten-prijslijst'!D94","v":0.02},0.5]
[{"$f":"'>>Producten-prijslijst'!B95","v":"Suiker koffie (5gr)"},{"$f":"600*0.1","v":60},{"$f":"'>>Producten-prijslijst'!C95","v":"st"},{"$f":"'>>Producten-prijslijst'!D95","v":0.01},0.6]
[{"$f":"'>>Producten-prijslijst'!B96","v":"Zelf invullen"},null,{"$f":"'>>Producten-prijslijst'!C96","v":0},{"$f":"'>>Producten-prijslijst'!D96","v":0},0]
[{"$f":"'>>Producten-prijslijst'!B97","v":"Zelf invullen"},null,{"$f":"'>>Producten-prijslijst'!C97","v":0},{"$f":"'>>Producten-prijslijst'!D97","v":0},0]
[{"$f":"'>>Producten-prijslijst'!B98","v":"Zelf invullen"},null,{"$f":"'>>Producten-prijslijst'!C98","v":0},{"$f":"'>>Producten-prijslijst'!D98","v":0},0]
[{"$f":"'>>Producten-prijslijst'!B99","v":"Zelf invullen"},null,{"$f":"'>>Producten-prijslijst'!C99","v":0},{"$f":"'>>Producten-prijslijst'!D99","v":0},0]
[{"$f":"'>>Producten-prijslijst'!B100","v":"Zelf invullen"},null,{"$f":"'>>Producten-prijslijst'!C100","v":0},{"$f":"'>>Producten-prijslijst'!D100","v":0},0]
["Subtotaal: ",null,null,null,{"$f":"SUM(E95:E106)","v":19.14}]
["Salade en groenten"]
[{"$f":"'>>Producten-prijslijst'!B102","v":"Salade mix"},900,{"$f":"'>>Producten-prijslijst'!C102","v":"gr"},{"$f":"'>>Producten-prijslijst'!D102","v":0.01},{"$f":"B109*D109","v":9},{"$f":"E118/$E$162","v":4.2070589166569222E-2}]
[{"$f":"'>>Producten-prijslijst'!B103","v":"Sjalot"},0.05,{"$f":"'>>Producten-prijslijst'!C103","v":"kg"},{"$f":"'>>Producten-prijslijst'!D103","v":2.0699999999999998},{"$f":"B110*D110","v":0.10349999999999999}]
[{"$f":"'>>Producten-prijslijst'!B104","v":"Kerstomaat"},0.1,{"$f":"'>>Producten-prijslijst'!C104","v":"kg"},{"$f":"'>>Producten-prijslijst'!D104","v":1.03},0.10300000000000001]
[{"$f":"'>>Producten-prijslijst'!B105","v":"Mais"},200,{"$f":"'>>Producten-prijslijst'!C105","v":"gr"},{"$f":"'>>Producten-prijslijst'!D105","v":0.01},2]
[{"$f":"'>>Producten-prijslijst'!B106","v":"Zelf invullen"},null,{"$f":"'>>Producten-prijslijst'!C106","v":0},{"$f":"'>>Producten-prijslijst'!D106","v":0},0]
[{"$f":"'>>Producten-prijslijst'!B107","v":"Zelf invullen"},null,{"$f":"'>>Producten-prijslijst'!C107","v":0},{"$f":"'>>Producten-prijslijst'!D107","v":0},0]
[{"$f":"'>>Producten-prijslijst'!B108","v":"Zelf invullen"},null,{"$f":"'>>Producten-prijslijst'!C108","v":0},{"$f":"'>>Producten-prijslijst'!D108","v":0},0]
[{"$f":"'>>Producten-prijslijst'!B109","v":"Zelf invullen"},null,{"$f":"'>>Producten-prijslijst'!C109","v":0},{"$f":"'>>Producten-prijslijst'!D109","v":0},0]
[{"$f":"'>>Producten-prijslijst'!B110","v":"Zelf invullen"},null,{"$f":"'>>Producten-prijslijst'!C110","v":0},{"$f":"'>>Producten-prijslijst'!D110","v":0},0]
["Subtotaal: ",null,null,null,{"$f":"SUM(E109:E117)","v":11.2065}]
["Garnituren"]
[{"$f":"'>>Producten-prijslijst'!B112","v":"Croutons"},0.15,{"$f":"'>>Producten-prijslijst'!C112","v":"kg"},{"$f":"'>>Producten-prijslijst'!D112","v":5.18},{"$f":"B120*D120","v":0.77699999999999991},{"$f":"E134/$E$162","v":5.7739551381661057E-2}]
[{"$f":"'>>Producten-prijslijst'!B113","v":"Notenmix"},0.1,{"$f":"'>>Producten-prijslijst'!C113","v":"kg"},{"$f":"'>>Producten-prijslijst'!D113","v":23},{"$f":"B121*D121","v":2.3000000000000003}]
[{"$f":"'>>Producten-prijslijst'!B114","v":"Augurken"},0.05,{"$f":"'>>Producten-prijslijst'!C114","v":"kg"},{"$f":"'>>Producten-prijslijst'!D114","v":3.36},0.16800000000000001]
[{"$f":"'>>Producten-prijslijst'!B115","v":"Mini uitjes op azijn"},0.03,{"$f":"'>>Producten-prijslijst'!C115","v":"kg"},{"$f":"'>>Producten-prijslijst'!D115","v":1.81},5.4300000000000001E-2]
[{"$f":"'>>Producten-prijslijst'!B116","v":"Kappertjes"},0.05,{"$f":"'>>Producten-prijslijst'!C116","v":"lt"},{"$f":"'>>Producten-prijslijst'!D116","v":14.67},0.73350000000000004]
[{"$f":"'>>Producten-prijslijst'!B117","v":"Gehakte peterselie"},0.05,{"$f":"'>>Producten-prijslijst'!C117","v":"kg"},{"$f":"'>>Producten-prijslijst'!D117","v":18.5},0.92500000000000004]
[{"$f":"'>>Producten-prijslijst'!B118","v":"Citroen in kwartjes"},0.05,{"$f":"'>>Producten-prijslijst'!C118","v":"st"},{"$f":"'>>Producten-prijslijst'!D118","v":0.45},2.2500000000000003E-2]
[{"$f":"'>>Producten-prijslijst'!B119","v":"Boter (8gr)"},80,{"$f":"'>>Producten-prijslijst'!C119","v":"st"},{"$f":"'>>Producten-prijslijst'!D119","v":0.08},6.4]
[{"$f":"'>>Producten-prijslijst'!B120","v":"Margarine (15gr)"},80,{"$f":"'>>Producten-prijslijst'!C120","v":"st"},{"$f":"'>>Producten-prijslijst'!D120","v":0.05},4]
[{"$f":"'>>Producten-prijslijst'!B121","v":"Zelf invullen"},null,{"$f":"'>>Producten-prijslijst'!C121","v":0},{"$f":"'>>Producten-prijslijst'!D121","v":0},0]
[{"$f":"'>>Producten-prijslijst'!B122","v":"Zelf invullen"},null,{"$f":"'>>Producten-prijslijst'!C122","v":0},{"$f":"'>>Producten-prijslijst'!D122","v":0},0]
[{"$f":"'>>Producten-prijslijst'!B123","v":"Zelf invullen"},null,{"$f":"'>>Producten-prijslijst'!C123","v":0},{"$f":"'>>Producten-prijslijst'!D123","v":0},0]
[{"$f":"'>>Producten-prijslijst'!B124","v":"Zelf invullen"},null,{"$f":"'>>Producten-prijslijst'!C124","v":0},{"$f":"'>>Producten-prijslijst'!D124","v":0},0]
[{"$f":"'>>Producten-prijslijst'!B125","v":"Zelf invullen"},null,{"$f":"'>>Producten-prijslijst'!C125","v":0},{"$f":"'>>Producten-prijslijst'!D125","v":0},0]
["Subtotaal: ",null,null,null,{"$f":"SUM(E120:E133)","v":15.3803}]
["Brood"]
[{"$f":"'>>Producten-prijslijst'!B127","v":"Chocolade broodje premium"},null,{"$f":"'>>Producten-prijslijst'!C127","v":"st"},{"$f":"'>>Producten-prijslijst'!D127","v":0.73645833333333333},{"$f":"B136*D136","v":0},{"$f":"E161/$E$162","v":0.4258491754455736}]
[{"$f":"'>>Producten-prijslijst'!B128","v":"Chocoladebroodje"},20,{"$f":"'>>Producten-prijslijst'!C128","v":"st"},{"$f":"'>>Producten-prijslijst'!D128","v":0.57625000000000004},{"$f":"B137*D137","v":11.525}]
[{"$f":"'>>Producten-prijslijst'!B129","v":"Golden croissant"},null,{"$f":"'>>Producten-prijslijst'!C129","v":"st"},{"$f":"'>>Producten-prijslijst'!D129","v":0.49},{"$f":"B138*D138","v":0}]
[{"$f":"'>>Producten-prijslijst'!B130","v":"Croissant recht"},40,{"$f":"'>>Producten-prijslijst'!C130","v":"st"},{"$f":"'>>Producten-prijslijst'!D130","v":0.49},{"$f":"B139*D139","v":19.600000000000001}]
[{"$f":"'>>Producten-prijslijst'!B131","v":"Premium suisse rond"},null,{"$f":"'>>Producten-prijslijst'!C131","v":"st"},{"$f":"'>>Producten-prijslijst'!D131","v":0.89611111111111108},0]
[{"$f":"'>>Producten-prijslijst'!B132","v":"Cinnamon scandi swirl"},null,{"$f":"'>>Producten-prijslijst'!C132","v":"st"},{"$f":"'>>Producten-prijslijst'!D132","v":0.99},0]
[{"$f":"'>>Producten-prijslijst'!B133","v":"Mini assortiment viennoiserie"},40,{"$f":"'>>Producten-prijslijst'!C133","v":"st"},{"$f":"'>>Producten-prijslijst'!D133","v":0.11295555555555555},4.5182222222222217]
[{"$f":"'>>Producten-prijslijst'!B134","v":"Mini danish selection"},20,{"$f":"'>>Producten-prijslijst'!C134","v":"st"},{"$f":"'>>Producten-prijslijst'!D134","v":0.50071428571428567},10.014285714285712]
[{"$f":"'>>Producten-prijslijst'!B135","v":"Mini croissant gevuld"},20,{"$f":"'>>Producten-prijslijst'!C135","v":"st"},{"$f":"'>>Producten-prijslijst'!D135","v":0.65388888888888896},13.077777777777779]
[{"$f":"'>>Producten-prijslijst'!B136","v":"Assortiment resto"},30,{"$f":"'>>Producten-prijslijst'!C136","v":"st"},{"$f":"'>>Producten-prijslijst'!D136","v":0.25170000000000003},7.551000000000001]
[{"$f":"'>>Producten-prijslijst'!B137","v":"Assortiment Prestige"},30,{"$f":"'>>Producten-prijslijst'!C137","v":"st"},{"$f":"'>>Producten-prijslijst'!D137","v":0.33829999999999999},10.148999999999999]
[{"$f":"'>>Producten-prijslijst'!B138","v":"Midi rozenbroodje volkoren"},null,{"$f":"'>>Producten-prijslijst'!C138","v":"st"},{"$f":"'>>Producten-prijslijst'!D138","v":0.33437499999999998},0]
[{"$f":"'>>Producten-prijslijst'!B139","v":"Molenaarsbrood donker"},null,{"$f":"'>>Producten-prijslijst'!C139","v":"st"},{"$f":"'>>Producten-prijslijst'!D139","v":4.2287499999999998},0]
[{"$f":"'>>Producten-prijslijst'!B140","v":"Molenaarsbrood meergranen"},2,{"$f":"'>>Producten-prijslijst'!C140","v":"st"},{"$f":"'>>Producten-prijslijst'!D140","v":4.2287499999999998},8.4574999999999996]
[{"$f":"'>>Producten-prijslijst'!B141","v":"Molenaarsbrood wit"},2,{"$f":"'>>Producten-prijslijst'!C141","v":"st"},{"$f":"'>>Producten-prijslijst'!D141","v":4.2287499999999998},8.4574999999999996]
[{"$f":"'>>Producten-prijslijst'!B142","v":"Toast brood wit"},1,{"$f":"'>>Producten-prijslijst'!C142","v":"st"},{"$f":"'>>Producten-prijslijst'!D142","v":3.2374999999999998},3.2374999999999998]
[{"$f":"'>>Producten-prijslijst'!B143","v":"Toastbrood premium country"},2,{"$f":"'>>Producten-prijslijst'!C143","v":"st"},{"$f":"'>>Producten-prijslijst'!D143","v":4.51},9.02]
[{"$f":"'>>Producten-prijslijst'!B144","v":"PLUS Stokbrood wit bebloemd"},2,{"$f":"'>>Producten-prijslijst'!C144","v":"st"},{"$f":"'>>Producten-prijslijst'!D144","v":1.0980000000000001},2.1960000000000002]
[{"$f":"'>>Producten-prijslijst'!B145","v":"PLUS fitness stokbrood"},null,{"$f":"'>>Producten-prijslijst'!C145","v":"st"},{"$f":"'>>Producten-prijslijst'!D145","v":1.23},0]
[{"$f":"'>>Producten-prijslijst'!B146","v":"Glutenvrij broodje wit"},5,{"$f":"'>>Producten-prijslijst'!C146","v":"st"},{"$f":"'>>Producten-prijslijst'!D146","v":1.12625},5.6312499999999996]
[{"$f":"'>>Producten-prijslijst'!B147","v":"Zelf invullen"},null,{"$f":"'>>Producten-prijslijst'!C147","v":0},{"$f":"'>>Producten-prijslijst'!D147","v":0},0]
[{"$f":"'>>Producten-prijslijst'!B148","v":"Zelf invullen"},null,{"$f":"'>>Producten-prijslijst'!C148","v":0},{"$f":"'>>Producten-prijslijst'!D148","v":0},0]
[{"$f":"'>>Producten-prijslijst'!B149","v":"Zelf invullen"},null,{"$f":"'>>Producten-prijslijst'!C149","v":0},{"$f":"'>>Producten-prijslijst'!D149","v":0},0]
[{"$f":"'>>Producten-prijslijst'!B150","v":"Zelf invullen"},null,{"$f":"'>>Producten-prijslijst'!C150","v":0},{"$f":"'>>Producten-prijslijst'!D150","v":0},0]
[{"$f":"'>>Producten-prijslijst'!B151","v":"Zelf invullen"},null,{"$f":"'>>Producten-prijslijst'!C151","v":0},{"$f":"'>>Producten-prijslijst'!D151","v":0},0]
["Subtotaal: ",null,null,null,{"$f":"SUM(E136:E160)","v":113.43503571428569}]
["Totaal: ",null,null,null,{"$f":"E20+E41+E55+E68+E80+E93+E107+E118+E134+E161","v":266.37373571428566}]
["Totaal aantal gasten: ",null,"100"]
["Kost per persoon: ",null,{"$f":"E162/C163","v":2.6637373571428564}]

{"sheet":"Comfort Onbijtbuffet","index":4,"n_rows":164,"n_cols":6,"rows_kept":164,"cut":false,"hidden":false,"merged":[[21,5,40,5],[40,0,40,3],[0,0,0,5],[3,0,3,5],[4,5,19,5],[19,0,19,3],[20,0,20,5],[1,0,1,5],[41,0,41,5],[42,5,54,5],[54,0,54,3],[55,0,55,5],[56,5,67,5],[67,0,67,3],[68,0,68,5],[69,5,79,5],[79,0,79,3],[80,0,80,5],[81,5,92,5],[92,0,92,3],[93,0,93,5],[94,5,106,5],[106,0,106,3],[107,0,107,5],[108,5,117,5],[117,0,117,3],[161,0,161,3],[162,0,162,1],[163,0,163,1],[118,0,118,5],[119,5,133,5],[133,0,133,3],[134,0,134,5],[135,5,160,5],[160,0,160,3]]}
["COMFORT ONBIJTBUFFET"]
["Voorbeeld van een uitgebreider hotelontbijt met extra variatie en beleving, samengesteld door onze chefs. Ideaal om gasten nét dat beetje meer te bieden."]
["INGREDIËNTEN","HOEVEELHEID","EENHEID","AANKOOPPRIJS","FOODCOST","FOODCOST % PER CATEGORIE"]
["Drank"]
[{"$f":"'>>Producten-prijslijst'!B5","v":"Koffie"},0.5,{"$f":"'>>Producten-prijslijst'!C5","v":"kg"},{"$f":"'>>Producten-prijslijst'!D5","v":15.3},{"$f":"B5*D5","v":7.65},{"$f":"E20/$E$162","v":4.7665593124531849E-2}]
[{"$f":"'>>Producten-prijslijst'!B6","v":"Thee"},1,{"$f":"'>>Producten-prijslijst'!C6","v":"st"},{"$f":"'>>Producten-prijslijst'!D6","v":0.15},0.15]
[{"$f":"'>>Producten-prijslijst'!B7","v":"Plat water"},0.33,{"$f":"'>>Producten-prijslijst'!C7","v":"lt"},{"$f":"'>>Producten-prijslijst'!D7","v":0.98},0.32340000000000002]
[{"$f":"'>>Producten-prijslijst'!B8","v":"Bruisend water"},0.33,{"$f":"'>>Producten-prijslijst'!C8","v":"lt"},{"$f":"'>>Producten-prijslijst'!D8","v":1.1000000000000001},0.36300000000000004]
[{"$f":"'>>Producten-prijslijst'!B9","v":"Appelsiensap"},2,{"$f":"'>>Producten-prijslijst'!C9","v":"lt"},{"$f":"'>>Producten-prijslijst'!D9","v":3.2},6.4]
[{"$f":"'>>Producten-prijslijst'!B10","v":"Smoothie kiwi (250ml)"},2,{"$f":"'>>Producten-prijslijst'!C10","v":"st"},{"$f":"'>>Producten-prijslijst'!D10","v":1.33},2.66]
[{"$f":"'>>Producten-prijslijst'!B11","v":"Smoothie rood fruit (250ml)"},2,{"$f":"'>>Producten-prijslijst'!C11","v":"st"},{"$f":"'>>Producten-prijslijst'!D11","v":1.33},2.66]
[{"$f":"'>>Producten-prijslijst'!B12","v":"Appelsap"},2,{"$f":"'>>Producten-prijslijst'!C12","v":"lt"},{"$f":"'>>Producten-prijslijst'!D12","v":1.06},2.12]
[{"$f":"'>>Producten-prijslijst'!B13","v":"Tomatensap"},0.5,{"$f":"'>>Producten-prijslijst'!C13","v":"lt"},{"$f":"'>>Producten-prijslijst'!D13","v":0.99},0.495]
[{"$f":"'>>Producten-prijslijst'!B14","v":"Chocolademelk"},0.5,{"$f":"'>>Producten-prijslijst'!C14","v":"lt"},{"$f":"'>>Producten-prijslijst'!D14","v":1.63},0.81499999999999995]
[{"$f":"'>>Producten-prijslijst'!B15","v":"Zelf invullen"},null,{"$f":"'>>Producten-prijslijst'!C15","v":0},{"$f":"'>>Producten-prijslijst'!D15","v":0},0]
[{"$f":"'>>Producten-prijslijst'!B16","v":"Zelf invullen"},null,{"$f":"'>>Producten-prijslijst'!C16","v":0},{"$f":"'>>Producten-prijslijst'!D16","v":0},0]
[{"$f":"'>>Producten-prijslijst'!B17","v":"Zelf invullen"},null,{"$f":"'>>Producten-prijslijst'!C17","v":0},{"$f":"'>>Producten-prijslijst'!D17","v":0},0]
[{"$f":"'>>Producten-prijslijst'!B18","v":"Zelf invullen"},null,{"$f":"'>>Producten-prijslijst'!C18","v":0},{"$f":"'>>Producten-prijslijst'!D18","v":0},0]
[{"$f":"'>>Producten-prijslijst'!B19","v":"Zelf invullen"},null,{"$f":"'>>Producten-prijslijst'!C19","v":0},{"$f":"'>>Producten-prijslijst'!D19","v":0},0]
["Subtotaal: ",null,null,null,{"$f":"SUM(E5:E19)","v":23.636400000000002}]
["Melkproducten"]
[{"$f":"'>>Producten-prijslijst'!B21","v":"Fruit yoghurt (150gr)"},12,{"$f":"'>>Producten-prijslijst'!C21","v":"st"},{"$f":"'>>Producten-prijslijst'!D21","v":0.43},{"$f":"B22*D22","v":5.16},{"$f":"E41/$E$162","v":7.4190373248674252E-2}]
[{"$f":"'>>Producten-prijslijst'!B22","v":"Yoghurt met cereals (100gr)"},10,{"$f":"'>>Producten-prijslijst'!C22","v":"st"},{"$f":"'>>Producten-prijslijst'!D22","v":0.55000000000000004},{"$f":"B23*D23","v":5.5}]
[{"$f":"'>>Producten-prijslijst'!B23","v":"Actimel (80gr)"},2,{"$f":"'>>Producten-prijslijst'!C23","v":"st"},{"$f":"'>>Producten-prijslijst'!D23","v":0.75},1.5]
[{"$f":"'>>Producten-prijslijst'!B24","v":"Melk"},0.2,{"$f":"'>>Producten-prijslijst'!C24","v":"lt"},{"$f":"'>>Producten-prijslijst'!D24","v":0.72},{"$f":"B25*D25","v":0.14399999999999999}]
[{"$f":"'>>Producten-prijslijst'!B25","v":"Kaas plakken (20gr)"},0.5,{"$f":"'>>Producten-prijslijst'!C25","v":"st"},{"$f":"'>>Producten-prijslijst'!D25","v":0.16},0.08]
[{"$f":"'>>Producten-prijslijst'!B26","v":"Soja melk"},1,{"$f":"'>>Producten-prijslijst'!C26","v":"lt"},{"$f":"'>>Producten-prijslijst'!D26","v":3.2},3.2]
[{"$f":"'>>Producten-prijslijst'!B27","v":"Brie"},0.25,{"$f":"'>>Producten-prijslijst'!C27","v":"kg"},{"$f":"'>>Producten-prijslijst'!D27","v":18.52},4.63]
[{"$f":"'>>Producten-prijslijst'!B28","v":"Geitenkaas"},0.5,{"$f":"'>>Producten-prijslijst'!C28","v":"kg"},{"$f":"'>>Producten-prijslijst'!D28","v":12.4},6.2]
[{"$f":"'>>Producten-prijslijst'!B29","v":"Chimay Blauw"},null,{"$f":"'>>Producten-prijslijst'!C29","v":"kg"},{"$f":"'>>Producten-prijslijst'!D29","v":53.55},0]
[{"$f":"'>>Producten-prijslijst'!B30","v":"Cheddar"},0.5,{"$f":"'>>Producten-prijslijst'!C30","v":"kg"},{"$f":"'>>Producten-prijslijst'!D30","v":7.65},3.8250000000000002]
[{"$f":"'>>Producten-prijslijst'!B31","v":"Maredsous"},null,{"$f":"'>>Producten-prijslijst'!C31","v":"kg"},{"$f":"'>>Producten-prijslijst'!D31","v":5.91},0]
[{"$f":"'>>Producten-prijslijst'!B32","v":"Kruidenkaas"},0.5,{"$f":"'>>Producten-prijslijst'!C32","v":"kg"},{"$f":"'>>Producten-prijslijst'!D32","v":9.68},4.84]
[{"$f":"'>>Producten-prijslijst'!B33","v":"Cottage cheese"},0.25,{"$f":"'>>Producten-prijslijst'!C33","v":"lt"},{"$f":"'>>Producten-prijslijst'!D33","v":6.33},1.5825]
[{"$f":"'>>Producten-prijslijst'!B34","v":"Magere melk"},0.2,{"$f":"'>>Producten-prijslijst'!C34","v":"lt"},{"$f":"'>>Producten-prijslijst'!D34","v":0.64},0.128]
[{"$f":"'>>Producten-prijslijst'!B35","v":"Zelf invullen"},null,{"$f":"'>>Producten-prijslijst'!C36","v":0},{"$f":"'>>Producten-prijslijst'!D36","v":0},0]
[{"$f":"'>>Producten-prijslijst'!B36","v":"Zelf invullen"},null,{"$f":"'>>Producten-prijslijst'!C37","v":0},{"$f":"'>>Producten-prijslijst'!D37","v":0},0]
[{"$f":"'>>Producten-prijslijst'!B37","v":"Zelf invullen"},null,{"$f":"'>>Producten-prijslijst'!C38","v":0},{"$f":"'>>Producten-prijslijst'!D38","v":0},0]
[{"$f":"'>>Producten-prijslijst'!B38","v":"Zelf invullen"},null,{"$f":"'>>Producten-prijslijst'!C39","v":0},{"$f":"'>>Producten-prijslijst'!D39","v":0},0]
[{"$f":"'>>Producten-prijslijst'!B39","v":"Zelf invullen"},null,{"$f":"'>>Producten-prijslijst'!C40","v":0},{"$f":"'>>Producten-prijslijst'!D40","v":0},0]
["Subtotaal: ",null,null,null,{"$f":"SUM(E22:E40)","v":36.789499999999997}]
["Fruit"]
[{"$f":"'>>Producten-prijslijst'!B41","v":"Kiwi"},5,{"$f":"'>>Producten-prijslijst'!C41","v":"st"},{"$f":"'>>Producten-prijslijst'!D41","v":0.55000000000000004},{"$f":"B43*D43","v":2.75},{"$f":"E55/$E$162","v":5.4126031014132207E-2}]
[{"$f":"'>>Producten-prijslijst'!B42","v":"Appel"},1,{"$f":"'>>Producten-prijslijst'!C42","v":"kg"},{"$f":"'>>Producten-prijslijst'!D42","v":1.9},{"$f":"B44*D44","v":1.9}]
[{"$f":"'>>Producten-prijslijst'!B43","v":"Peer"},1,{"$f":"'>>Producten-prijslijst'!C43","v":"kg"},{"$f":"'>>Producten-prijslijst'!D43","v":2.1},2.1]
[{"$f":"'>>Producten-prijslijst'!B44","v":"Appelsien"},1,{"$f":"'>>Producten-prijslijst'!C44","v":"kg"},{"$f":"'>>Producten-prijslijst'!D44","v":2.2799999999999998},2.2799999999999998]
[{"$f":"'>>Producten-prijslijst'!B45","v":"Druiven"},1,{"$f":"'>>Producten-prijslijst'!C45","v":"kg"},{"$f":"'>>Producten-prijslijst'!D45","v":4.42},4.42]
[{"$f":"'>>Producten-prijslijst'!B46","v":"Fruitsalade"},1.5,{"$f":"'>>Producten-prijslijst'!C46","v":"kg"},{"$f":"'>>Producten-prijslijst'!D46","v":5.0999999999999996},7.6499999999999995]
[{"$f":"'>>Producten-prijslijst'!B47","v":"Banaan"},2,{"$f":"'>>Producten-prijslijst'!C47","v":"kg"},{"$f":"'>>Producten-prijslijst'!D47","v":2.87},5.74]
[{"$f":"'>>Producten-prijslijst'!B48","v":"Zelf invullen"},null,{"$f":"'>>Producten-prijslijst'!C48","v":0},{"$f":"'>>Producten-prijslijst'!D48","v":0},0]
[{"$f":"'>>Producten-prijslijst'!B49","v":"Zelf invullen"},null,{"$f":"'>>Producten-prijslijst'!C49","v":0},{"$f":"'>>Producten-prijslijst'!D49","v":0},0]
[{"$f":"'>>Producten-prijslijst'!B50","v":"Zelf invullen"},null,{"$f":"'>>Producten-prijslijst'!C50","v":0},{"$f":"'>>Producten-prijslijst'!D50","v":0},0]
[{"$f":"'>>Producten-prijslijst'!B51","v":"Zelf invullen"},null,{"$f":"'>>Producten-prijslijst'!C51","v":0},{"$f":"'>>Producten-prijslijst'!D51","v":0},0]
[{"$f":"'>>Producten-prijslijst'!B52","v":"Zelf invullen"},null,{"$f":"'>>Producten-prijslijst'!C52","v":0},{"$f":"'>>Producten-prijslijst'!D52","v":0},0]
["Subtotaal: ",null,null,null,{"$f":"SUM(E43:E54)","v":26.839999999999996}]
["Warm buffet"]
[{"$f":"'>>Producten-prijslijst'!B54","v":"Ei"},36,{"$f":"'>>Producten-prijslijst'!C54","v":"st"},{"$f":"'>>Producten-prijslijst'!D54","v":0.09},{"$f":"B57*D57","v":3.2399999999999998},{"$f":"E68/$E$162","v":4.5847813528550517E-2}]
[{"$f":"'>>Producten-prijslijst'!B55","v":"Spek"},0.5,{"$f":"'>>Producten-prijslijst'!C55","v":"kg"},{"$f":"'>>Producten-prijslijst'!D55","v":9.32},{"$f":"B58*D58","v":4.66}]
[{"$f":"'>>Producten-prijslijst'!B56","v":"Mini worstjes"},1,{"$f":"'>>Producten-prijslijst'!C56","v":"kg"},{"$f":"'>>Producten-prijslijst'!D56","v":8.4},8.4]
[{"$f":"'>>Producten-prijslijst'!B57","v":"Tomaat"},0.25,{"$f":"'>>Producten-prijslijst'!C57","v":"kg"},{"$f":"'>>Producten-prijslijst'!D57","v":2.14},0.53500000000000003]
[{"$f":"'>>Producten-prijslijst'!B58","v":"Gebakken champignons"},0.5,{"$f":"'>>Producten-prijslijst'!C58","v":"kg"},{"$f":"'>>Producten-prijslijst'!D58","v":7.8},3.9]
[{"$f":"'>>Producten-prijslijst'!B59","v":"Aardappelschijfjes"},0.5,{"$f":"'>>Producten-prijslijst'!C59","v":"kg"},{"$f":"'>>Producten-prijslijst'!D59","v":4},2]
[{"$f":"'>>Producten-prijslijst'!B60","v":"Zelf invullen"},null,{"$f":"'>>Producten-prijslijst'!C60","v":0},{"$f":"'>>Producten-prijslijst'!D60","v":0},0]
[{"$f":"'>>Producten-prijslijst'!B61","v":"Zelf invullen"},null,{"$f":"'>>Producten-prijslijst'!C61","v":0},{"$f":"'>>Producten-prijslijst'!D61","v":0},0]
[{"$f":"'>>Producten-prijslijst'!B62","v":"Zelf invullen"},null,{"$f":"'>>Producten-prijslijst'!C62","v":0},{"$f":"'>>Producten-prijslijst'!D62","v":0},0]
[{"$f":"'>>Producten-prijslijst'!B63","v":"Zelf invullen"},null,{"$f":"'>>Producten-prijslijst'!C63","v":0},{"$f":"'>>Producten-prijslijst'!D63","v":0},0]
[{"$f":"'>>Producten-prijslijst'!B64","v":"Zelf invullen"},null,{"$f":"'>>Producten-prijslijst'!C64","v":0},{"$f":"'>>Producten-prijslijst'!D64","v":0},0]
["Subtotaal: ",null,null,null,{"$f":"SUM(E57:E67)","v":22.734999999999999}]
["Vis"]
[{"$f":"'>>Producten-prijslijst'!B66","v":"Gerookte zalm"},1,{"$f":"'>>Producten-prijslijst'!C66","v":"kg"},{"$f":"'>>Producten-prijslijst'!D66","v":22.83},{"$f":"B70*D70","v":22.83},{"$f":"E80/$E$162","v":0.27119480815128544}]
[{"$f":"'>>Producten-prijslijst'!B67","v":"Gerookte heilbot"},1,{"$f":"'>>Producten-prijslijst'!C67","v":"kg"},{"$f":"'>>Producten-prijslijst'!D67","v":31.78},{"$f":"B71*D71","v":31.78}]
[{"$f":"'>>Producten-prijslijst'!B68","v":"Maatjes"},1,{"$f":"'>>Producten-prijslijst'!C68","v":"kg"},{"$f":"'>>Producten-prijslijst'!D68","v":21.87},21.87]
[{"$f":"'>>Producten-prijslijst'!B69","v":"Garnalen"},1,{"$f":"'>>Producten-prijslijst'!C69","v":"kg"},{"$f":"'>>Producten-prijslijst'!D69","v":40},40]
[{"$f":"'>>Producten-prijslijst'!B70","v":"Wakame salade"},1,{"$f":"'>>Producten-prijslijst'!C70","v":"kg"},{"$f":"'>>Producten-prijslijst'!D70","v":18},18]
[{"$f":"'>>Producten-prijslijst'!B71","v":"Zelf invullen"},null,{"$f":"'>>Producten-prijslijst'!C71","v":0},{"$f":"'>>Producten-prijslijst'!D71","v":0},0]
[{"$f":"'>>Producten-prijslijst'!B72","v":"Zelf invullen"},null,{"$f":"'>>Producten-prijslijst'!C72","v":0},{"$f":"'>>Producten-prijslijst'!D72","v":0},0]
[{"$f":"'>>Producten-prijslijst'!B73","v":"Zelf invullen"},null,{"$f":"'>>Producten-prijslijst'!C73","v":0},{"$f":"'>>Producten-prijslijst'!D73","v":0},0]
[{"$f":"'>>Producten-prijslijst'!B74","v":"Zelf invullen"},null,{"$f":"'>>Producten-prijslijst'!C74","v":0},{"$f":"'>>Producten-prijslijst'!D74","v":0},0]
[{"$f":"'>>Producten-prijslijst'!B75","v":"Zelf invullen"},null,{"$f":"'>>Producten-prijslijst'!C75","v":0},{"$f":"'>>Producten-prijslijst'!D75","v":0},0]
["Subtotaal: ",null,null,null,{"$f":"SUM(E70:E79)","v":134.48000000000002}]
["Charcuterie"]
[{"$f":"'>>Producten-prijslijst'!B77","v":"Pancetta"},1,{"$f":"'>>Producten-prijslijst'!C77","v":"kg"},{"$f":"'>>Producten-prijslijst'!D77","v":10.27},{"$f":"B82*D82","v":10.27},{"$f":"E93/$E$162","v":0.17881353092485483}]
[{"$f":"'>>Producten-prijslijst'!B78","v":"Gerookte kalkoen"},1,{"$f":"'>>Producten-prijslijst'!C78","v":"kg"},{"$f":"'>>Producten-prijslijst'!D78","v":9.27},{"$f":"B83*D83","v":9.27}]
[{"$f":"'>>Producten-prijslijst'!B79","v":"Gekookte ham"},1,{"$f":"'>>Producten-prijslijst'!C79","v":"kg"},{"$f":"'>>Producten-prijslijst'!D79","v":11.5},11.5]
[{"$f":"'>>Producten-prijslijst'!B80","v":"Ganda ham"},1,{"$f":"'>>Producten-prijslijst'!C80","v":"kg"},{"$f":"'>>Producten-prijslijst'!D80","v":36},36]
[{"$f":"'>>Producten-prijslijst'!B81","v":"Salami"},1,{"$f":"'>>Producten-prijslijst'!C81","v":"kg"},{"$f":"'>>Producten-prijslijst'!D81","v":11.51},11.51]
[{"$f":"'>>Producten-prijslijst'!B82","v":"Zwarte pens"},1,{"$f":"'>>Producten-prijslijst'!C82","v":"kg"},{"$f":"'>>Producten-prijslijst'!D82","v":10.119999999999999},10.119999999999999]
[{"$f":"'>>Producten-prijslijst'!B83","v":"Zelf invullen"},null,{"$f":"'>>Producten-prijslijst'!C83","v":0},{"$f":"'>>Producten-prijslijst'!D83","v":0},0]
[{"$f":"'>>Producten-prijslijst'!B84","v":"Zelf invullen"},null,{"$f":"'>>Producten-prijslijst'!C84","v":0},{"$f":"'>>Producten-prijslijst'!D84","v":0},0]
[{"$f":"'>>Producten-prijslijst'!B85","v":"Zelf invullen"},null,{"$f":"'>>Producten-prijslijst'!C85","v":0},{"$f":"'>>Producten-prijslijst'!D85","v":0},0]
[{"$f":"'>>Producten-prijslijst'!B86","v":"Zelf invullen"},null,{"$f":"'>>Producten-prijslijst'!C86","v":0},{"$f":"'>>Producten-prijslijst'!D86","v":0},0]
[{"$f":"'>>Producten-prijslijst'!B87","v":"Zelf invullen"},null,{"$f":"'>>Producten-prijslijst'!C87","v":0},{"$f":"'>>Producten-prijslijst'!D87","v":0},0]
["Subtotaal: ",null,null,null,{"$f":"SUM(E82:E92)","v":88.67}]
["Zoet"]
[{"$f":"'>>Producten-prijslijst'!B89","v":"Nutella (15gr)"},{"$f":"120*0.2","v":24},{"$f":"'>>Producten-prijslijst'!C89","v":"st"},{"$f":"'>>Producten-prijslijst'!D89","v":0.16},{"$f":"B95*D95","v":3.84},{"$f":"E107/$E$162","v":3.8598071296963139E-2}]
[{"$f":"'>>Producten-prijslijst'!B90","v":"Confituur (15gr)"},{"$f":"100*0.2","v":20},{"$f":"'>>Producten-prijslijst'!C90","v":"st"},{"$f":"'>>Producten-prijslijst'!D90","v":0.17},{"$f":"B96*D96","v":3.4000000000000004}]
[{"$f":"'>>Producten-prijslijst'!B91","v":"Smeerkaas (17gr)"},{"$f":"80*0.2","v":16},{"$f":"'>>Producten-prijslijst'!C91","v":"st"},{"$f":"'>>Producten-prijslijst'!D91","v":0.21},3.36]
[{"$f":"'>>Producten-prijslijst'!B92","v":"Pannenkoeken"},null,"st",{"$f":"'>>Producten-prijslijst'!D92","v":2.2599999999999998},0]
[{"$f":"'>>Producten-prijslijst'!B93","v":"Chocolade muizen (20gr)"},{"$f":"120*0.2","v":24},{"$f":"'>>Producten-prijslijst'!C92","v":"st"},{"$f":"'>>Producten-prijslijst'!D93","v":0.31},7.4399999999999995]
[{"$f":"'>>Producten-prijslijst'!B94","v":"Zoetjes"},{"$f":"500*0.05","v":25},{"$f":"'>>Producten-prijslijst'!C94","v":"st"},{"$f":"'>>Producten-prijslijst'!D94","v":0.02},0.5]
[{"$f":"'>>Producten-prijslijst'!B95","v":"Suiker koffie (5gr)"},{"$f":"600*0.1","v":60},{"$f":"'>>Producten-prijslijst'!C95","v":"st"},{"$f":"'>>Producten-prijslijst'!D95","v":0.01},0.6]
[{"$f":"'>>Producten-prijslijst'!B96","v":"Zelf invullen"},null,{"$f":"'>>Producten-prijslijst'!C96","v":0},{"$f":"'>>Producten-prijslijst'!D96","v":0},0]
[{"$f":"'>>Producten-prijslijst'!B97","v":"Zelf invullen"},null,{"$f":"'>>Producten-prijslijst'!C97","v":0},{"$f":"'>>Producten-prijslijst'!D97","v":0},0]
[{"$f":"'>>Producten-prijslijst'!B98","v":"Zelf invullen"},null,{"$f":"'>>Producten-prijslijst'!C98","v":0},{"$f":"'>>Producten-prijslijst'!D98","v":0},0]
[{"$f":"'>>Producten-prijslijst'!B99","v":"Zelf invullen"},null,{"$f":"'>>Producten-prijslijst'!C99","v":0},{"$f":"'>>Producten-prijslijst'!D99","v":0},0]
[{"$f":"'>>Producten-prijslijst'!B100","v":"Zelf invullen"},null,{"$f":"'>>Producten-prijslijst'!C100","v":0},{"$f":"'>>Producten-prijslijst'!D100","v":0},0]
["Subtotaal: ",null,null,null,{"$f":"SUM(E95:E106)","v":19.14}]
["Salade en groenten"]
[{"$f":"'>>Producten-prijslijst'!B102","v":"Salade mix"},300,{"$f":"'>>Producten-prijslijst'!C102","v":"gr"},{"$f":"'>>Producten-prijslijst'!D102","v":0.01},{"$f":"B109*D109","v":3},{"$f":"E118/$E$162","v":1.0499522372394911E-2}]
[{"$f":"'>>Producten-prijslijst'!B103","v":"Sjalot"},0.05,{"$f":"'>>Producten-prijslijst'!C103","v":"kg"},{"$f":"'>>Producten-prijslijst'!D103","v":2.0699999999999998},{"$f":"B110*D110","v":0.10349999999999999}]
[{"$f":"'>>Producten-prijslijst'!B104","v":"Kerstomaat"},0.1,{"$f":"'>>Producten-prijslijst'!C104","v":"kg"},{"$f":"'>>Producten-prijslijst'!D104","v":1.03},0.10300000000000001]
[{"$f":"'>>Producten-prijslijst'!B105","v":"Mais"},200,{"$f":"'>>Producten-prijslijst'!C105","v":"gr"},{"$f":"'>>Producten-prijslijst'!D105","v":0.01},2]
[{"$f":"'>>Producten-prijslijst'!B106","v":"Zelf invullen"},null,{"$f":"'>>Producten-prijslijst'!C106","v":0},{"$f":"'>>Producten-prijslijst'!D106","v":0},0]
[{"$f":"'>>Producten-prijslijst'!B107","v":"Zelf invullen"},null,{"$f":"'>>Producten-prijslijst'!C107","v":0},{"$f":"'>>Producten-prijslijst'!D107","v":0},0]
[{"$f":"'>>Producten-prijslijst'!B108","v":"Zelf invullen"},null,{"$f":"'>>Producten-prijslijst'!C108","v":0},{"$f":"'>>Producten-prijslijst'!D108","v":0},0]
[{"$f":"'>>Producten-prijslijst'!B109","v":"Zelf invullen"},null,{"$f":"'>>Producten-prijslijst'!C109","v":0},{"$f":"'>>Producten-prijslijst'!D109","v":0},0]
[{"$f":"'>>Producten-prijslijst'!B110","v":"Zelf invullen"},null,{"$f":"'>>Producten-prijslijst'!C110","v":0},{"$f":"'>>Producten-prijslijst'!D110","v":0},0]
["Subtotaal: ",null,null,null,{"$f":"SUM(E109:E117)","v":5.2065000000000001}]
["Garnituren"]
[{"$f":"'>>Producten-prijslijst'!B112","v":"Croutons"},0.15,{"$f":"'>>Producten-prijslijst'!C112","v":"kg"},{"$f":"'>>Producten-prijslijst'!D112","v":5.18},{"$f":"B120*D120","v":0.77699999999999991},{"$f":"E134/$E$162","v":2.9427500282180493E-2}]
[{"$f":"'>>Producten-prijslijst'!B113","v":"Notenmix"},0.1,{"$f":"'>>Producten-prijslijst'!C113","v":"kg"},{"$f":"'>>Producten-prijslijst'!D113","v":23},{"$f":"B121*D121","v":2.3000000000000003}]
[{"$f":"'>>Producten-prijslijst'!B114","v":"Augurken"},0.05,{"$f":"'>>Producten-prijslijst'!C114","v":"kg"},{"$f":"'>>Producten-prijslijst'!D114","v":3.36},0.16800000000000001]
[{"$f":"'>>Producten-prijslijst'!B115","v":"Mini uitjes op azijn"},null,{"$f":"'>>Producten-prijslijst'!C115","v":"kg"},{"$f":"'>>Producten-prijslijst'!D115","v":1.81},0]
[{"$f":"'>>Producten-prijslijst'!B116","v":"Kappertjes"},null,{"$f":"'>>Producten-prijslijst'!C116","v":"lt"},{"$f":"'>>Producten-prijslijst'!D116","v":14.67},0]
[{"$f":"'>>Producten-prijslijst'!B117","v":"Gehakte peterselie"},0.05,{"$f":"'>>Producten-prijslijst'!C117","v":"kg"},{"$f":"'>>Producten-prijslijst'!D117","v":18.5},0.92500000000000004]
[{"$f":"'>>Producten-prijslijst'!B118","v":"Citroen in kwartjes"},0.05,{"$f":"'>>Producten-prijslijst'!C118","v":"st"},{"$f":"'>>Producten-prijslijst'!D118","v":0.45},2.2500000000000003E-2]
[{"$f":"'>>Producten-prijslijst'!B119","v":"Boter (8gr)"},80,{"$f":"'>>Producten-prijslijst'!C119","v":"st"},{"$f":"'>>Producten-prijslijst'!D119","v":0.08},6.4]
[{"$f":"'>>Producten-prijslijst'!B120","v":"Margarine (15gr)"},80,{"$f":"'>>Producten-prijslijst'!C120","v":"st"},{"$f":"'>>Producten-prijslijst'!D120","v":0.05},4]
[{"$f":"'>>Producten-prijslijst'!B121","v":"Zelf invullen"},null,{"$f":"'>>Producten-prijslijst'!C121","v":0},{"$f":"'>>Producten-prijslijst'!D121","v":0},0]
[{"$f":"'>>Producten-prijslijst'!B122","v":"Zelf invullen"},null,{"$f":"'>>Producten-prijslijst'!C122","v":0},{"$f":"'>>Producten-prijslijst'!D122","v":0},0]
[{"$f":"'>>Producten-prijslijst'!B123","v":"Zelf invullen"},null,{"$f":"'>>Producten-prijslijst'!C123","v":0},{"$f":"'>>Producten-prijslijst'!D123","v":0},0]
[{"$f":"'>>Producten-prijslijst'!B124","v":"Zelf invullen"},null,{"$f":"'>>Producten-prijslijst'!C124","v":0},{"$f":"'>>Producten-prijslijst'!D124","v":0},0]
[{"$f":"'>>Producten-prijslijst'!B125","v":"Zelf invullen"},null,{"$f":"'>>Producten-prijslijst'!C125","v":0},{"$f":"'>>Producten-prijslijst'!D125","v":0},0]
["Subtotaal: ",null,null,null,{"$f":"SUM(E120:E133)","v":14.592500000000001}]
["Brood"]
[{"$f":"'>>Producten-prijslijst'!B127","v":"Chocolade broodje premium"},30,{"$f":"'>>Producten-prijslijst'!C127","v":"st"},{"$f":"'>>Producten-prijslijst'!D127","v":0.73645833333333333},{"$f":"B136*D136","v":22.09375},{"$f":"E161/$E$162","v":0.24963675605643221}]
[{"$f":"'>>Producten-prijslijst'!B128","v":"Chocoladebroodje"},null,{"$f":"'>>Producten-prijslijst'!C128","v":"st"},{"$f":"'>>Producten-prijslijst'!D128","v":0.57625000000000004},{"$f":"B137*D137","v":0}]
[{"$f":"'>>Producten-prijslijst'!B129","v":"Golden croissant"},20,{"$f":"'>>Producten-prijslijst'!C129","v":"st"},{"$f":"'>>Producten-prijslijst'!D129","v":0.49},9.8000000000000007]
[{"$f":"'>>Producten-prijslijst'!B130","v":"Croissant recht"},null,{"$f":"'>>Producten-prijslijst'!C130","v":"st"},{"$f":"'>>Producten-prijslijst'!D130","v":0.49},0]
[{"$f":"'>>Producten-prijslijst'!B131","v":"Premium suisse rond"},null,{"$f":"'>>Producten-prijslijst'!C131","v":"st"},{"$f":"'>>Producten-prijslijst'!D131","v":0.89611111111111108},0]
[{"$f":"'>>Producten-prijslijst'!B132","v":"Cinnamon scandi swirl"},null,{"$f":"'>>Producten-prijslijst'!C132","v":"st"},{"$f":"'>>Producten-prijslijst'!D132","v":0.99},0]
[{"$f":"'>>Producten-prijslijst'!B133","v":"Mini assortiment viennoiserie"},20,{"$f":"'>>Producten-prijslijst'!C133","v":"st"},{"$f":"'>>Producten-prijslijst'!D133","v":0.11295555555555555},2.2591111111111108]
[{"$f":"'>>Producten-prijslijst'!B134","v":"Mini danish selection"},20,{"$f":"'>>Producten-prijslijst'!C134","v":"st"},{"$f":"'>>Producten-prijslijst'!D134","v":0.50071428571428567},10.014285714285712]
[{"$f":"'>>Producten-prijslijst'!B135","v":"Mini croissant gevuld"},20,{"$f":"'>>Producten-prijslijst'!C135","v":"st"},{"$f":"'>>Producten-prijslijst'!D135","v":0.65388888888888896},13.077777777777779]
[{"$f":"'>>Producten-prijslijst'!B136","v":"Assortiment resto"},25,{"$f":"'>>Producten-prijslijst'!C136","v":"st"},{"$f":"'>>Producten-prijslijst'!D136","v":0.25170000000000003},6.2925000000000004]
[{"$f":"'>>Producten-prijslijst'!B137","v":"Assortiment Prestige"},25,{"$f":"'>>Producten-prijslijst'!C137","v":"st"},{"$f":"'>>Producten-prijslijst'!D137","v":0.33829999999999999},8.4574999999999996]
[{"$f":"'>>Producten-prijslijst'!B138","v":"Midi rozenbroodje volkoren"},25,{"$f":"'>>Producten-prijslijst'!C138","v":"st"},{"$f":"'>>Producten-prijslijst'!D138","v":0.33437499999999998},8.359375]
[{"$f":"'>>Producten-prijslijst'!B139","v":"Molenaarsbrood donker"},2,{"$f":"'>>Producten-prijslijst'!C139","v":"st"},{"$f":"'>>Producten-prijslijst'!D139","v":4.2287499999999998},8.4574999999999996]
[{"$f":"'>>Producten-prijslijst'!B140","v":"Molenaarsbrood meergranen"},2,{"$f":"'>>Producten-prijslijst'!C140","v":"st"},{"$f":"'>>Producten-prijslijst'!D140","v":4.2287499999999998},8.4574999999999996]
[{"$f":"'>>Producten-prijslijst'!B141","v":"Molenaarsbrood wit"},2,{"$f":"'>>Producten-prijslijst'!C141","v":"st"},{"$f":"'>>Producten-prijslijst'!D141","v":4.2287499999999998},8.4574999999999996]
[{"$f":"'>>Producten-prijslijst'!B142","v":"Toast brood wit"},1,{"$f":"'>>Producten-prijslijst'!C142","v":"st"},{"$f":"'>>Producten-prijslijst'!D142","v":3.2374999999999998},3.2374999999999998]
[{"$f":"'>>Producten-prijslijst'!B143","v":"Toastbrood premium country"},1,{"$f":"'>>Producten-prijslijst'!C143","v":"st"},{"$f":"'>>Producten-prijslijst'!D143","v":4.51},4.51]
[{"$f":"'>>Producten-prijslijst'!B144","v":"PLUS Stokbrood wit bebloemd"},1,{"$f":"'>>Producten-prijslijst'!C144","v":"st"},{"$f":"'>>Producten-prijslijst'!D144","v":1.0980000000000001},1.0980000000000001]
[{"$f":"'>>Producten-prijslijst'!B145","v":"PLUS fitness stokbrood"},2,{"$f":"'>>Producten-prijslijst'!C145","v":"st"},{"$f":"'>>Producten-prijslijst'!D145","v":1.23},2.46]
[{"$f":"'>>Producten-prijslijst'!B146","v":"Glutenvrij broodje wit"},6,{"$f":"'>>Producten-prijslijst'!C146","v":"st"},{"$f":"'>>Producten-prijslijst'!D146","v":1.12625},{"$f":"B155*D155","v":6.7575000000000003}]
[{"$f":"'>>Producten-prijslijst'!B147","v":"Zelf invullen"},null,{"$f":"'>>Producten-prijslijst'!C147","v":0},{"$f":"'>>Producten-prijslijst'!D147","v":0},{"$f":"B156*D156","v":0}]
[{"$f":"'>>Producten-prijslijst'!B148","v":"Zelf invullen"},null,{"$f":"'>>Producten-prijslijst'!C148","v":0},{"$f":"'>>Producten-prijslijst'!D148","v":0},0]
[{"$f":"'>>Producten-prijslijst'!B149","v":"Zelf invullen"},null,{"$f":"'>>Producten-prijslijst'!C149","v":0},{"$f":"'>>Producten-prijslijst'!D149","v":0},0]
[{"$f":"'>>Producten-prijslijst'!B150","v":"Zelf invullen"},null,{"$f":"'>>Producten-prijslijst'!C150","v":0},{"$f":"'>>Producten-prijslijst'!D150","v":0},0]
[{"$f":"'>>Producten-prijslijst'!B151","v":"Zelf invullen"},null,{"$f":"'>>Producten-prijslijst'!C151","v":0},{"$f":"'>>Producten-prijslijst'!D151","v":0},0]
["Subtotaal: ",null,null,null,{"$f":"SUM(E136:E160)","v":123.7897996031746}]
["Totaal: ",null,null,null,{"$f":"E20+E41+E55+E68+E80+E93+E107+E118+E134+E161","v":495.87969960317469}]
["Totaal aantal gasten: ",null,"100"]
["Kost per persoon: ",null,{"$f":"E162/C163","v":4.9587969960317473}]

{"sheet":"Premium Ontbijtbuffet","index":5,"n_rows":164,"n_cols":6,"rows_kept":164,"cut":false,"hidden":false,"merged":[[21,5,40,5],[40,0,40,3],[0,0,0,5],[3,0,3,5],[4,5,19,5],[19,0,19,3],[20,0,20,5],[1,0,1,5],[41,0,41,5],[42,5,54,5],[54,0,54,3],[55,0,55,5],[56,5,67,5],[67,0,67,3],[68,0,68,5],[69,5,79,5],[79,0,79,3],[80,0,80,5],[81,5,92,5],[92,0,92,3],[93,0,93,5],[94,5,106,5],[106,0,106,3],[107,0,107,5],[108,5,117,5],[117,0,117,3],[161,0,161,3],[162,0,162,1],[163,0,163,1],[118,0,118,5],[119,5,133,5],[133,0,133,3],[134,0,134,5],[135,5,160,5],[160,0,160,3]]}
["PREMIUM ONTBIJTBUFFET"]
["Voorbeeld van een premium hotelontbijt voor speciale gelegenheden, samengesteld door onze chefs. Gebruik dit als inspiratie of pas het aan naar jouw eigen concept."]
["INGREDIËNTEN","HOEVEELHEID","EENHEID","AANKOOPPRIJS","FOODCOST","FOODCOST % PER CATEGORIE"]
["Drank"]
[{"$f":"'>>Producten-prijslijst'!B5","v":"Koffie"},0.5,{"$f":"'>>Producten-prijslijst'!C5","v":"kg"},{"$f":"'>>Producten-prijslijst'!D5","v":15.3},{"$f":"B5*D5","v":7.65},{"$f":"E20/$E$162","v":3.5428254053020677E-2}]
[{"$f":"'>>Producten-prijslijst'!B6","v":"Thee"},1,{"$f":"'>>Producten-prijslijst'!C6","v":"st"},{"$f":"'>>Producten-prijslijst'!D6","v":0.15},0.15]
[{"$f":"'>>Producten-prijslijst'!B7","v":"Plat water"},0.33,{"$f":"'>>Producten-prijslijst'!C7","v":"lt"},{"$f":"'>>Producten-prijslijst'!D7","v":0.98},0.32340000000000002]
[{"$f":"'>>Producten-prijslijst'!B8","v":"Bruisend water"},0.33,{"$f":"'>>Producten-prijslijst'!C8","v":"lt"},{"$f":"'>>Producten-prijslijst'!D8","v":1.1000000000000001},0.36300000000000004]
[{"$f":"'>>Producten-prijslijst'!B9","v":"Appelsiensap"},2,{"$f":"'>>Producten-prijslijst'!C9","v":"lt"},{"$f":"'>>Producten-prijslijst'!D9","v":3.2},6.4]
[{"$f":"'>>Producten-prijslijst'!B10","v":"Smoothie kiwi (250ml)"},2,{"$f":"'>>Producten-prijslijst'!C10","v":"st"},{"$f":"'>>Producten-prijslijst'!D10","v":1.33},2.66]
[{"$f":"'>>Producten-prijslijst'!B11","v":"Smoothie rood fruit (250ml)"},2,{"$f":"'>>Producten-prijslijst'!C11","v":"st"},{"$f":"'>>Producten-prijslijst'!D11","v":1.33},2.66]
[{"$f":"'>>Producten-prijslijst'!B12","v":"Appelsap"},2,{"$f":"'>>Producten-prijslijst'!C12","v":"lt"},{"$f":"'>>Producten-prijslijst'!D12","v":1.06},2.12]
[{"$f":"'>>Producten-prijslijst'!B13","v":"Tomatensap"},0.5,{"$f":"'>>Producten-prijslijst'!C13","v":"lt"},{"$f":"'>>Producten-prijslijst'!D13","v":0.99},0.495]
[{"$f":"'>>Producten-prijslijst'!B14","v":"Chocolademelk"},0.5,{"$f":"'>>Producten-prijslijst'!C14","v":"lt"},{"$f":"'>>Producten-prijslijst'!D14","v":1.63},0.81499999999999995]
[{"$f":"'>>Producten-prijslijst'!B15","v":"Zelf invullen"},null,{"$f":"'>>Producten-prijslijst'!C15","v":0},{"$f":"'>>Producten-prijslijst'!D15","v":0},0]
[{"$f":"'>>Producten-prijslijst'!B16","v":"Zelf invullen"},null,{"$f":"'>>Producten-prijslijst'!C16","v":0},{"$f":"'>>Producten-prijslijst'!D16","v":0},0]
[{"$f":"'>>Producten-prijslijst'!B17","v":"Zelf invullen"},null,{"$f":"'>>Producten-prijslijst'!C17","v":0},{"$f":"'>>Producten-prijslijst'!D17","v":0},0]
[{"$f":"'>>Producten-prijslijst'!B18","v":"Zelf invullen"},null,{"$f":"'>>Producten-prijslijst'!C18","v":0},{"$f":"'>>Producten-prijslijst'!D18","v":0},0]
[{"$f":"'>>Producten-prijslijst'!B19","v":"Zelf invullen"},null,{"$f":"'>>Producten-prijslijst'!C19","v":0},{"$f":"'>>Producten-prijslijst'!D19","v":0},0]
["Subtotaal: ",null,null,null,{"$f":"SUM(E5:E19)","v":23.636400000000002}]
["Melkproducten"]
[{"$f":"'>>Producten-prijslijst'!B21","v":"Fruit yoghurt (150gr)"},12,{"$f":"'>>Producten-prijslijst'!C21","v":"st"},{"$f":"'>>Producten-prijslijst'!D21","v":0.43},{"$f":"B22*D22","v":5.16},{"$f":"E41/$E$162","v":8.9756253456659385E-2}]
[{"$f":"'>>Producten-prijslijst'!B22","v":"Yoghurt met cereals (100gr)"},10,{"$f":"'>>Producten-prijslijst'!C22","v":"st"},{"$f":"'>>Producten-prijslijst'!D22","v":0.55000000000000004},{"$f":"B23*D23","v":5.5}]
[{"$f":"'>>Producten-prijslijst'!B23","v":"Actimel (80gr)"},2,{"$f":"'>>Producten-prijslijst'!C23","v":"st"},{"$f":"'>>Producten-prijslijst'!D23","v":0.75},1.5]
[{"$f":"'>>Producten-prijslijst'!B24","v":"Melk"},0.2,{"$f":"'>>Producten-prijslijst'!C24","v":"lt"},{"$f":"'>>Producten-prijslijst'!D24","v":0.72},{"$f":"B25*D25","v":0.14399999999999999}]
[{"$f":"'>>Producten-prijslijst'!B25","v":"Kaas plakken (20gr)"},0.5,{"$f":"'>>Producten-prijslijst'!C25","v":"st"},{"$f":"'>>Producten-prijslijst'!D25","v":0.16},0.08]
[{"$f":"'>>Producten-prijslijst'!B26","v":"Soja melk"},1,{"$f":"'>>Producten-prijslijst'!C26","v":"lt"},{"$f":"'>>Producten-prijslijst'!D26","v":3.2},3.2]
[{"$f":"'>>Producten-prijslijst'!B27","v":"Brie"},0.25,{"$f":"'>>Producten-prijslijst'!C27","v":"kg"},{"$f":"'>>Producten-prijslijst'!D27","v":18.52},4.63]
[{"$f":"'>>Producten-prijslijst'!B28","v":"Geitenkaas"},0.5,{"$f":"'>>Producten-prijslijst'!C28","v":"kg"},{"$f":"'>>Producten-prijslijst'!D28","v":12.4},6.2]
[{"$f":"'>>Producten-prijslijst'!B29","v":"Chimay Blauw"},0.5,{"$f":"'>>Producten-prijslijst'!C29","v":"kg"},{"$f":"'>>Producten-prijslijst'!D29","v":53.55},26.774999999999999]
[{"$f":"'>>Producten-prijslijst'!B30","v":"Cheddar"},0.5,{"$f":"'>>Producten-prijslijst'!C30","v":"kg"},{"$f":"'>>Producten-prijslijst'!D30","v":7.65},3.8250000000000002]
[{"$f":"'>>Producten-prijslijst'!B31","v":"Maredsous"},0.25,{"$f":"'>>Producten-prijslijst'!C31","v":"kg"},{"$f":"'>>Producten-prijslijst'!D31","v":5.91},1.4775]
[{"$f":"'>>Producten-prijslijst'!B32","v":"Kruidenkaas"},0.5,{"$f":"'>>Producten-prijslijst'!C32","v":"kg"},{"$f":"'>>Producten-prijslijst'!D32","v":9.68},4.84]
[{"$f":"'>>Producten-prijslijst'!B33","v":"Cottage cheese"},0.25,{"$f":"'>>Producten-prijslijst'!C33","v":"lt"},{"$f":"'>>Producten-prijslijst'!D33","v":6.33},1.5825]
[{"$f":"'>>Producten-prijslijst'!B34","v":"Magere melk"},0.2,{"$f":"'>>Producten-prijslijst'!C34","v":"lt"},{"$f":"'>>Producten-prijslijst'!D34","v":0.64},0.128]
[{"$f":"'>>Producten-prijslijst'!B35","v":"Zelf invullen"},null,{"$f":"'>>Producten-prijslijst'!C36","v":0},{"$f":"'>>Producten-prijslijst'!D36","v":0},0]
[{"$f":"'>>Producten-prijslijst'!B36","v":"Zelf invullen"},null,{"$f":"'>>Producten-prijslijst'!C37","v":0},{"$f":"'>>Producten-prijslijst'!D37","v":0},0]
[{"$f":"'>>Producten-prijslijst'!B37","v":"Zelf invullen"},null,{"$f":"'>>Producten-prijslijst'!C38","v":0},{"$f":"'>>Producten-prijslijst'!D38","v":0},0]
[{"$f":"'>>Producten-prijslijst'!B38","v":"Zelf invullen"},null,{"$f":"'>>Producten-prijslijst'!C39","v":0},{"$f":"'>>Producten-prijslijst'!D39","v":0},0]
[{"$f":"'>>Producten-prijslijst'!B39","v":"Zelf invullen"},null,{"$f":"'>>Producten-prijslijst'!C40","v":0},{"$f":"'>>Producten-prijslijst'!D40","v":0},0]
["Subtotaal: ",null,null,null,{"$f":"SUM(E23:E40)","v":59.881999999999998}]
["Fruit"]
[{"$f":"'>>Producten-prijslijst'!B41","v":"Kiwi"},5,{"$f":"'>>Producten-prijslijst'!C41","v":"st"},{"$f":"'>>Producten-prijslijst'!D41","v":0.55000000000000004},{"$f":"B43*D43","v":2.75},{"$f":"E55/$E$162","v":4.0230083209925147E-2}]
[{"$f":"'>>Producten-prijslijst'!B42","v":"Appel"},1,{"$f":"'>>Producten-prijslijst'!C42","v":"kg"},{"$f":"'>>Producten-prijslijst'!D42","v":1.9},{"$f":"B44*D44","v":1.9}]
[{"$f":"'>>Producten-prijslijst'!B43","v":"Peer"},1,{"$f":"'>>Producten-prijslijst'!C43","v":"kg"},{"$f":"'>>Producten-prijslijst'!D43","v":2.1},2.1]
[{"$f":"'>>Producten-prijslijst'!B44","v":"Appelsien"},1,{"$f":"'>>Producten-prijslijst'!C44","v":"kg"},{"$f":"'>>Producten-prijslijst'!D44","v":2.2799999999999998},2.2799999999999998]
[{"$f":"'>>Producten-prijslijst'!B45","v":"Druiven"},1,{"$f":"'>>Producten-prijslijst'!C45","v":"kg"},{"$f":"'>>Producten-prijslijst'!D45","v":4.42},4.42]
[{"$f":"'>>Producten-prijslijst'!B46","v":"Fruitsalade"},1.5,{"$f":"'>>Producten-prijslijst'!C46","v":"kg"},{"$f":"'>>Producten-prijslijst'!D46","v":5.0999999999999996},7.6499999999999995]
[{"$f":"'>>Producten-prijslijst'!B47","v":"Banaan"},2,{"$f":"'>>Producten-prijslijst'!C47","v":"kg"},{"$f":"'>>Producten-prijslijst'!D47","v":2.87},5.74]
[{"$f":"'>>Producten-prijslijst'!B48","v":"Zelf invullen"},null,{"$f":"'>>Producten-prijslijst'!C48","v":0},{"$f":"'>>Producten-prijslijst'!D48","v":0},0]
[{"$f":"'>>Producten-prijslijst'!B49","v":"Zelf invullen"},null,{"$f":"'>>Producten-prijslijst'!C49","v":0},{"$f":"'>>Producten-prijslijst'!D49","v":0},0]
[{"$f":"'>>Producten-prijslijst'!B50","v":"Zelf invullen"},null,{"$f":"'>>Producten-prijslijst'!C50","v":0},{"$f":"'>>Producten-prijslijst'!D50","v":0},0]
[{"$f":"'>>Producten-prijslijst'!B51","v":"Zelf invullen"},null,{"$f":"'>>Producten-prijslijst'!C51","v":0},{"$f":"'>>Producten-prijslijst'!D51","v":0},0]
[{"$f":"'>>Producten-prijslijst'!B52","v":"Zelf invullen"},null,{"$f":"'>>Producten-prijslijst'!C52","v":0},{"$f":"'>>Producten-prijslijst'!D52","v":0},0]
["Subtotaal: ",null,null,null,{"$f":"SUM(E43:E54)","v":26.839999999999996}]
["Warm buffet"]
[{"$f":"'>>Producten-prijslijst'!B54","v":"Ei"},36,{"$f":"'>>Producten-prijslijst'!C54","v":"st"},{"$f":"'>>Producten-prijslijst'!D54","v":0.09},{"$f":"B57*D57","v":3.2399999999999998},{"$f":"E68/$E$162","v":3.4077158784562162E-2}]
[{"$f":"'>>Producten-prijslijst'!B55","v":"Spek"},0.5,{"$f":"'>>Producten-prijslijst'!C55","v":"kg"},{"$f":"'>>Producten-prijslijst'!D55","v":9.32},{"$f":"B58*D58","v":4.66}]
[{"$f":"'>>Producten-prijslijst'!B56","v":"Mini worstjes"},1,{"$f":"'>>Producten-prijslijst'!C56","v":"kg"},{"$f":"'>>Producten-prijslijst'!D56","v":8.4},8.4]
[{"$f":"'>>Producten-prijslijst'!B57","v":"Tomaat"},0.25,{"$f":"'>>Producten-prijslijst'!C57","v":"kg"},{"$f":"'>>Producten-prijslijst'!D57","v":2.14},0.53500000000000003]
[{"$f":"'>>Producten-prijslijst'!B58","v":"Gebakken champignons"},0.5,{"$f":"'>>Producten-prijslijst'!C58","v":"kg"},{"$f":"'>>Producten-prijslijst'!D58","v":7.8},3.9]
[{"$f":"'>>Producten-prijslijst'!B59","v":"Aardappelschijfjes"},0.5,{"$f":"'>>Producten-prijslijst'!C59","v":"kg"},{"$f":"'>>Producten-prijslijst'!D59","v":4},2]
[{"$f":"'>>Producten-prijslijst'!B60","v":"Zelf invullen"},null,{"$f":"'>>Producten-prijslijst'!C60","v":0},{"$f":"'>>Producten-prijslijst'!D60","v":0},0]
[{"$f":"'>>Producten-prijslijst'!B61","v":"Zelf invullen"},null,{"$f":"'>>Producten-prijslijst'!C61","v":0},{"$f":"'>>Producten-prijslijst'!D61","v":0},0]
[{"$f":"'>>Producten-prijslijst'!B62","v":"Zelf invullen"},null,{"$f":"'>>Producten-prijslijst'!C62","v":0},{"$f":"'>>Producten-prijslijst'!D62","v":0},0]
[{"$f":"'>>Producten-prijslijst'!B63","v":"Zelf invullen"},null,{"$f":"'>>Producten-prijslijst'!C63","v":0},{"$f":"'>>Producten-prijslijst'!D63","v":0},0]
[{"$f":"'>>Producten-prijslijst'!B64","v":"Zelf invullen"},null,{"$f":"'>>Producten-prijslijst'!C64","v":0},{"$f":"'>>Producten-prijslijst'!D64","v":0},0]
["Subtotaal: ",null,null,null,{"$f":"SUM(E57:E67)","v":22.734999999999999}]
["Vis"]
[{"$f":"'>>Producten-prijslijst'!B66","v":"Gerookte zalm"},1,{"$f":"'>>Producten-prijslijst'!C66","v":"kg"},{"$f":"'>>Producten-prijslijst'!D66","v":22.83},{"$f":"B70*D70","v":22.83},{"$f":"E80/$E$162","v":0.20157010395196481}]
[{"$f":"'>>Producten-prijslijst'!B67","v":"Gerookte heilbot"},1,{"$f":"'>>Producten-prijslijst'!C67","v":"kg"},{"$f":"'>>Producten-prijslijst'!D67","v":31.78},{"$f":"B71*D71","v":31.78}]
[{"$f":"'>>Producten-prijslijst'!B68","v":"Maatjes"},1,{"$f":"'>>Producten-prijslijst'!C68","v":"kg"},{"$f":"'>>Producten-prijslijst'!D68","v":21.87},21.87]
[{"$f":"'>>Producten-prijslijst'!B69","v":"Garnalen"},1,{"$f":"'>>Producten-prijslijst'!C69","v":"kg"},{"$f":"'>>Producten-prijslijst'!D69","v":40},40]
[{"$f":"'>>Producten-prijslijst'!B70","v":"Wakame salade"},1,{"$f":"'>>Producten-prijslijst'!C70","v":"kg"},{"$f":"'>>Producten-prijslijst'!D70","v":18},18]
[{"$f":"'>>Producten-prijslijst'!B71","v":"Zelf invullen"},null,{"$f":"'>>Producten-prijslijst'!C71","v":0},{"$f":"'>>Producten-prijslijst'!D71","v":0},0]
[{"$f":"'>>Producten-prijslijst'!B72","v":"Zelf invullen"},null,{"$f":"'>>Producten-prijslijst'!C72","v":0},{"$f":"'>>Producten-prijslijst'!D72","v":0},0]
[{"$f":"'>>Producten-prijslijst'!B73","v":"Zelf invullen"},null,{"$f":"'>>Producten-prijslijst'!C73","v":0},{"$f":"'>>Producten-prijslijst'!D73","v":0},0]
[{"$f":"'>>Producten-prijslijst'!B74","v":"Zelf invullen"},null,{"$f":"'>>Producten-prijslijst'!C74","v":0},{"$f":"'>>Producten-prijslijst'!D74","v":0},0]
[{"$f":"'>>Producten-prijslijst'!B75","v":"Zelf invullen"},null,{"$f":"'>>Producten-prijslijst'!C75","v":0},{"$f":"'>>Producten-prijslijst'!D75","v":0},0]
["Subtotaal: ",null,null,null,{"$f":"SUM(E70:E79)","v":134.48000000000002}]
["Charcuterie"]
[{"$f":"'>>Producten-prijslijst'!B77","v":"Pancetta"},1,{"$f":"'>>Producten-prijslijst'!C77","v":"kg"},{"$f":"'>>Producten-prijslijst'!D77","v":10.27},{"$f":"B82*D82","v":10.27},{"$f":"E93/$E$162","v":0.13290616535857167}]
[{"$f":"'>>Producten-prijslijst'!B78","v":"Gerookte kalkoen"},1,{"$f":"'>>Producten-prijslijst'!C78","v":"kg"},{"$f":"'>>Producten-prijslijst'!D78","v":9.27},{"$f":"B83*D83","v":9.27}]
[{"$f":"'>>Producten-prijslijst'!B79","v":"Gekookte ham"},1,{"$f":"'>>Producten-prijslijst'!C79","v":"kg"},{"$f":"'>>Producten-prijslijst'!D79","v":11.5},11.5]
[{"$f":"'>>Producten-prijslijst'!B80","v":"Ganda ham"},1,{"$f":"'>>Producten-prijslijst'!C80","v":"kg"},{"$f":"'>>Producten-prijslijst'!D80","v":36},36]
[{"$f":"'>>Producten-prijslijst'!B81","v":"Salami"},1,{"$f":"'>>Producten-prijslijst'!C81","v":"kg"},{"$f":"'>>Producten-prijslijst'!D81","v":11.51},11.51]
[{"$f":"'>>Producten-prijslijst'!B82","v":"Zwarte pens"},1,{"$f":"'>>Producten-prijslijst'!C82","v":"kg"},{"$f":"'>>Producten-prijslijst'!D82","v":10.119999999999999},10.119999999999999]
[{"$f":"'>>Producten-prijslijst'!B83","v":"Zelf invullen"},null,{"$f":"'>>Producten-prijslijst'!C83","v":0},{"$f":"'>>Producten-prijslijst'!D83","v":0},0]
[{"$f":"'>>Producten-prijslijst'!B84","v":"Zelf invullen"},null,{"$f":"'>>Producten-prijslijst'!C84","v":0},{"$f":"'>>Producten-prijslijst'!D84","v":0},0]
[{"$f":"'>>Producten-prijslijst'!B85","v":"Zelf invullen"},null,{"$f":"'>>Producten-prijslijst'!C85","v":0},{"$f":"'>>Producten-prijslijst'!D85","v":0},0]
[{"$f":"'>>Producten-prijslijst'!B86","v":"Zelf invullen"},null,{"$f":"'>>Producten-prijslijst'!C86","v":0},{"$f":"'>>Producten-prijslijst'!D86","v":0},0]
[{"$f":"'>>Producten-prijslijst'!B87","v":"Zelf invullen"},null,{"$f":"'>>Producten-prijslijst'!C87","v":0},{"$f":"'>>Producten-prijslijst'!D87","v":0},0]
["Subtotaal: ",null,null,null,{"$f":"SUM(E82:E92)","v":88.67}]
["Zoet"]
[{"$f":"'>>Producten-prijslijst'!B89","v":"Nutella (15gr)"},{"$f":"120*0.2","v":24},{"$f":"'>>Producten-prijslijst'!C89","v":"st"},{"$f":"'>>Producten-prijslijst'!D89","v":0.16},{"$f":"B95*D95","v":3.84},{"$f":"E107/$E$162","v":0.18112530756659295}]
[{"$f":"'>>Producten-prijslijst'!B90","v":"Confituur (15gr)"},{"$f":"100*0.2","v":20},{"$f":"'>>Producten-prijslijst'!C90","v":"st"},{"$f":"'>>Producten-prijslijst'!D90","v":0.17},{"$f":"B96*D96","v":3.4000000000000004}]
[{"$f":"'>>Producten-prijslijst'!B91","v":"Smeerkaas (17gr)"},{"$f":"80*0.2","v":16},{"$f":"'>>Producten-prijslijst'!C91","v":"st"},{"$f":"'>>Producten-prijslijst'!D91","v":0.21},3.36]
[{"$f":"'>>Producten-prijslijst'!B92","v":"Pannenkoeken"},{"$f":"15*3","v":45},"st",{"$f":"'>>Producten-prijslijst'!D92","v":2.2599999999999998},101.69999999999999]
[{"$f":"'>>Producten-prijslijst'!B93","v":"Chocolade muizen (20gr)"},{"$f":"120*0.2","v":24},{"$f":"'>>Producten-prijslijst'!C92","v":"st"},{"$f":"'>>Producten-prijslijst'!D93","v":0.31},7.4399999999999995]
[{"$f":"'>>Producten-prijslijst'!B94","v":"Zoetjes"},{"$f":"500*0.05","v":25},{"$f":"'>>Producten-prijslijst'!C94","v":"st"},{"$f":"'>>Producten-prijslijst'!D94","v":0.02},0.5]
[{"$f":"'>>Producten-prijslijst'!B95","v":"Suiker koffie (5gr)"},{"$f":"600*0.1","v":60},{"$f":"'>>Producten-prijslijst'!C95","v":"st"},{"$f":"'>>Producten-prijslijst'!D95","v":0.01},0.6]
[{"$f":"'>>Producten-prijslijst'!B96","v":"Zelf invullen"},null,{"$f":"'>>Producten-prijslijst'!C96","v":0},{"$f":"'>>Producten-prijslijst'!D96","v":0},0]
[{"$f":"'>>Producten-prijslijst'!B97","v":"Zelf invullen"},null,{"$f":"'>>Producten-prijslijst'!C97","v":0},{"$f":"'>>Producten-prijslijst'!D97","v":0},0]
[{"$f":"'>>Producten-prijslijst'!B98","v":"Zelf invullen"},null,{"$f":"'>>Producten-prijslijst'!C98","v":0},{"$f":"'>>Producten-prijslijst'!D98","v":0},0]
[{"$f":"'>>Producten-prijslijst'!B99","v":"Zelf invullen"},null,{"$f":"'>>Producten-prijslijst'!C99","v":0},{"$f":"'>>Producten-prijslijst'!D99","v":0},0]
[{"$f":"'>>Producten-prijslijst'!B100","v":"Zelf invullen"},null,{"$f":"'>>Producten-prijslijst'!C100","v":0},{"$f":"'>>Producten-prijslijst'!D100","v":0},0]
["Subtotaal: ",null,null,null,{"$f":"SUM(E95:E106)","v":120.83999999999997}]
["Salade en groenten"]
[{"$f":"'>>Producten-prijslijst'!B102","v":"Salade mix"},300,{"$f":"'>>Producten-prijslijst'!C102","v":"gr"},{"$f":"'>>Producten-prijslijst'!D102","v":0.01},{"$f":"B109*D109","v":3},{"$f":"E118/$E$162","v":7.8039466554573516E-3}]
[{"$f":"'>>Producten-prijslijst'!B103","v":"Sjalot"},0.05,{"$f":"'>>Producten-prijslijst'!C103","v":"kg"},{"$f":"'>>Producten-prijslijst'!D103","v":2.0699999999999998},{"$f":"B110*D110","v":0.10349999999999999}]
[{"$f":"'>>Producten-prijslijst'!B104","v":"Kerstomaat"},0.1,{"$f":"'>>Producten-prijslijst'!C104","v":"kg"},{"$f":"'>>Producten-prijslijst'!D104","v":1.03},0.10300000000000001]
[{"$f":"'>>Producten-prijslijst'!B105","v":"Mais"},200,{"$f":"'>>Producten-prijslijst'!C105","v":"gr"},{"$f":"'>>Producten-prijslijst'!D105","v":0.01},2]
[{"$f":"'>>Producten-prijslijst'!B106","v":"Zelf invullen"},null,{"$f":"'>>Producten-prijslijst'!C106","v":0},{"$f":"'>>Producten-prijslijst'!D106","v":0},0]
[{"$f":"'>>Producten-prijslijst'!B107","v":"Zelf invullen"},null,{"$f":"'>>Producten-prijslijst'!C107","v":0},{"$f":"'>>Producten-prijslijst'!D107","v":0},0]
[{"$f":"'>>Producten-prijslijst'!B108","v":"Zelf invullen"},null,{"$f":"'>>Producten-prijslijst'!C108","v":0},{"$f":"'>>Producten-prijslijst'!D108","v":0},0]
[{"$f":"'>>Producten-prijslijst'!B109","v":"Zelf invullen"},null,{"$f":"'>>Producten-prijslijst'!C109","v":0},{"$f":"'>>Producten-prijslijst'!D109","v":0},0]
[{"$f":"'>>Producten-prijslijst'!B110","v":"Zelf invullen"},null,{"$f":"'>>Producten-prijslijst'!C110","v":0},{"$f":"'>>Producten-prijslijst'!D110","v":0},0]
["Subtotaal: ",null,null,null,{"$f":"SUM(E109:E117)","v":5.2065000000000001}]
["Garnituren"]
[{"$f":"'>>Producten-prijslijst'!B112","v":"Croutons"},0.15,{"$f":"'>>Producten-prijslijst'!C112","v":"kg"},{"$f":"'>>Producten-prijslijst'!D112","v":5.18},{"$f":"B120*D120","v":0.77699999999999991},{"$f":"E134/$E$162","v":2.30533065869453E-2}]
[{"$f":"'>>Producten-prijslijst'!B113","v":"Notenmix"},0.1,{"$f":"'>>Producten-prijslijst'!C113","v":"kg"},{"$f":"'>>Producten-prijslijst'!D113","v":23},{"$f":"B121*D121","v":2.3000000000000003}]
[{"$f":"'>>Producten-prijslijst'!B114","v":"Augurken"},0.05,{"$f":"'>>Producten-prijslijst'!C114","v":"kg"},{"$f":"'>>Producten-prijslijst'!D114","v":3.36},0.16800000000000001]
[{"$f":"'>>Producten-prijslijst'!B115","v":"Mini uitjes op azijn"},0.03,{"$f":"'>>Producten-prijslijst'!C115","v":"kg"},{"$f":"'>>Producten-prijslijst'!D115","v":1.81},5.4300000000000001E-2]
[{"$f":"'>>Producten-prijslijst'!B116","v":"Kappertjes"},0.05,{"$f":"'>>Producten-prijslijst'!C116","v":"lt"},{"$f":"'>>Producten-prijslijst'!D116","v":14.67},0.73350000000000004]
[{"$f":"'>>Producten-prijslijst'!B117","v":"Gehakte peterselie"},0.05,{"$f":"'>>Producten-prijslijst'!C117","v":"kg"},{"$f":"'>>Producten-prijslijst'!D117","v":18.5},0.92500000000000004]
[{"$f":"'>>Producten-prijslijst'!B118","v":"Citroen in kwartjes"},0.05,{"$f":"'>>Producten-prijslijst'!C118","v":"st"},{"$f":"'>>Producten-prijslijst'!D118","v":0.45},2.2500000000000003E-2]
[{"$f":"'>>Producten-prijslijst'!B119","v":"Boter (8gr)"},80,{"$f":"'>>Producten-prijslijst'!C119","v":"st"},{"$f":"'>>Producten-prijslijst'!D119","v":0.08},6.4]
[{"$f":"'>>Producten-prijslijst'!B120","v":"Margarine (15gr)"},80,{"$f":"'>>Producten-prijslijst'!C120","v":"st"},{"$f":"'>>Producten-prijslijst'!D120","v":0.05},4]
[{"$f":"'>>Producten-prijslijst'!B121","v":"Zelf invullen"},null,{"$f":"'>>Producten-prijslijst'!C121","v":0},{"$f":"'>>Producten-prijslijst'!D121","v":0},0]
[{"$f":"'>>Producten-prijslijst'!B122","v":"Zelf invullen"},null,{"$f":"'>>Producten-prijslijst'!C122","v":0},{"$f":"'>>Producten-prijslijst'!D122","v":0},0]
[{"$f":"'>>Producten-prijslijst'!B123","v":"Zelf invullen"},null,{"$f":"'>>Producten-prijslijst'!C123","v":0},{"$f":"'>>Producten-prijslijst'!D123","v":0},0]
[{"$f":"'>>Producten-prijslijst'!B124","v":"Zelf invullen"},null,{"$f":"'>>Producten-prijslijst'!C124","v":0},{"$f":"'>>Producten-prijslijst'!D124","v":0},0]
[{"$f":"'>>Producten-prijslijst'!B125","v":"Zelf invullen"},null,{"$f":"'>>Producten-prijslijst'!C125","v":0},{"$f":"'>>Producten-prijslijst'!D125","v":0},0]
["Subtotaal: ",null,null,null,{"$f":"SUM(E120:E133)","v":15.3803}]
["Brood"]
[{"$f":"'>>Producten-prijslijst'!B127","v":"Chocolade broodje premium"},30,{"$f":"'>>Producten-prijslijst'!C127","v":"st"},{"$f":"'>>Producten-prijslijst'!D127","v":0.73645833333333333},{"$f":"B136*D136","v":22.09375},{"$f":"E161/$E$162","v":0.25404942037630057}]
[{"$f":"'>>Producten-prijslijst'!B128","v":"Chocoladebroodje"},null,{"$f":"'>>Producten-prijslijst'!C128","v":"st"},{"$f":"'>>Producten-prijslijst'!D128","v":0.57625000000000004},{"$f":"B137*D137","v":0}]
[{"$f":"'>>Producten-prijslijst'!B129","v":"Golden croissant"},20,{"$f":"'>>Producten-prijslijst'!C129","v":"st"},{"$f":"'>>Producten-prijslijst'!D129","v":0.49},9.8000000000000007]
[{"$f":"'>>Producten-prijslijst'!B130","v":"Croissant recht"},null,{"$f":"'>>Producten-prijslijst'!C130","v":"st"},{"$f":"'>>Producten-prijslijst'!D130","v":0.49},0]
[{"$f":"'>>Producten-prijslijst'!B131","v":"Premium suisse rond"},20,{"$f":"'>>Producten-prijslijst'!C131","v":"st"},{"$f":"'>>Producten-prijslijst'!D131","v":0.89611111111111108},17.922222222222221]
[{"$f":"'>>Producten-prijslijst'!B132","v":"Cinnamon scandi swirl"},15,{"$f":"'>>Producten-prijslijst'!C132","v":"st"},{"$f":"'>>Producten-prijslijst'!D132","v":0.99},14.85]
[{"$f":"'>>Producten-prijslijst'!B133","v":"Mini assortiment viennoiserie"},15,{"$f":"'>>Producten-prijslijst'!C133","v":"st"},{"$f":"'>>Producten-prijslijst'!D133","v":0.11295555555555555},1.6943333333333332]
[{"$f":"'>>Producten-prijslijst'!B134","v":"Mini danish selection"},15,{"$f":"'>>Producten-prijslijst'!C134","v":"st"},{"$f":"'>>Producten-prijslijst'!D134","v":0.50071428571428567},7.5107142857142852]
[{"$f":"'>>Producten-prijslijst'!B135","v":"Mini croissant gevuld"},15,{"$f":"'>>Producten-prijslijst'!C135","v":"st"},{"$f":"'>>Producten-prijslijst'!D135","v":0.65388888888888896},9.8083333333333336]
[{"$f":"'>>Producten-prijslijst'!B136","v":"Assortiment resto"},30,{"$f":"'>>Producten-prijslijst'!C136","v":"st"},{"$f":"'>>Producten-prijslijst'!D136","v":0.25170000000000003},7.551000000000001]
[{"$f":"'>>Producten-prijslijst'!B137","v":"Assortiment Prestige"},30,{"$f":"'>>Producten-prijslijst'!C137","v":"st"},{"$f":"'>>Producten-prijslijst'!D137","v":0.33829999999999999},10.148999999999999]
[{"$f":"'>>Producten-prijslijst'!B138","v":"Midi rozenbroodje volkoren"},25,{"$f":"'>>Producten-prijslijst'!C138","v":"st"},{"$f":"'>>Producten-prijslijst'!D138","v":0.33437499999999998},8.359375]
[{"$f":"'>>Producten-prijslijst'!B139","v":"Molenaarsbrood donker"},2,{"$f":"'>>Producten-prijslijst'!C139","v":"st"},{"$f":"'>>Producten-prijslijst'!D139","v":4.2287499999999998},8.4574999999999996]
[{"$f":"'>>Producten-prijslijst'!B140","v":"Molenaarsbrood meergranen"},3,{"$f":"'>>Producten-prijslijst'!C140","v":"st"},{"$f":"'>>Producten-prijslijst'!D140","v":4.2287499999999998},12.686249999999999]
[{"$f":"'>>Producten-prijslijst'!B141","v":"Molenaarsbrood wit"},3,{"$f":"'>>Producten-prijslijst'!C141","v":"st"},{"$f":"'>>Producten-prijslijst'!D141","v":4.2287499999999998},12.686249999999999]
[{"$f":"'>>Producten-prijslijst'!B142","v":"Toast brood wit"},1,{"$f":"'>>Producten-prijslijst'!C142","v":"st"},{"$f":"'>>Producten-prijslijst'!D142","v":3.2374999999999998},3.2374999999999998]
[{"$f":"'>>Producten-prijslijst'!B143","v":"Toastbrood premium country"},2,{"$f":"'>>Producten-prijslijst'!C143","v":"st"},{"$f":"'>>Producten-prijslijst'!D143","v":4.51},9.02]
[{"$f":"'>>Producten-prijslijst'!B144","v":"PLUS Stokbrood wit bebloemd"},2,{"$f":"'>>Producten-prijslijst'!C144","v":"st"},{"$f":"'>>Producten-prijslijst'!D144","v":1.0980000000000001},2.1960000000000002]
[{"$f":"'>>Producten-prijslijst'!B145","v":"PLUS fitness stokbrood"},2,{"$f":"'>>Producten-prijslijst'!C145","v":"st"},{"$f":"'>>Producten-prijslijst'!D145","v":1.23},2.46]
[{"$f":"'>>Producten-prijslijst'!B146","v":"Glutenvrij broodje wit"},8,{"$f":"'>>Producten-prijslijst'!C146","v":"st"},{"$f":"'>>Producten-prijslijst'!D146","v":1.12625},9.01]
[{"$f":"'>>Producten-prijslijst'!B147","v":"Zelf invullen"},null,{"$f":"'>>Producten-prijslijst'!C147","v":0},{"$f":"'>>Producten-prijslijst'!D147","v":0},0]
[{"$f":"'>>Producten-prijslijst'!B148","v":"Zelf invullen"},null,{"$f":"'>>Producten-prijslijst'!C148","v":0},{"$f":"'>>Producten-prijslijst'!D148","v":0},0]
[{"$f":"'>>Producten-prijslijst'!B149","v":"Zelf invullen"},null,{"$f":"'>>Producten-prijslijst'!C149","v":0},{"$f":"'>>Producten-prijslijst'!D149","v":0},0]
[{"$f":"'>>Producten-prijslijst'!B150","v":"Zelf invullen"},null,{"$f":"'>>Producten-prijslijst'!C150","v":0},{"$f":"'>>Producten-prijslijst'!D150","v":0},0]
[{"$f":"'>>Producten-prijslijst'!B151","v":"Zelf invullen"},null,{"$f":"'>>Producten-prijslijst'!C151","v":0},{"$f":"'>>Producten-prijslijst'!D151","v":0},0]
["Subtotaal: ",null,null,null,{"$f":"SUM(E136:E160)","v":169.49222817460318}]
["Totaal: ",null,null,null,{"$f":"E20+E41+E55+E68+E80+E93+E107+E118+E134+E161","v":667.16242817460318}]
["Totaal aantal gasten: ",null,"100"]
["Kost per persoon: ",null,{"$f":"E162/C163","v":6.6716242817460314}]